Workbook

Sheet 10.11.26
A1: FY2027 Time Sheet -- AAS
A3: Name: | B3: name | E3: Pay Period Ending: | H3: 46306
B5: Mon | C5: Tue | D5: Wed | E5: Thu | F5: Fri | G5: Sat | H5: Sun
A6: Date: | B6: =$H$3-13 -> 46293 | C6: =$H$3-12 -> 46294 | D6: =$H$3-11 -> 46295 | E6: =$H$3-10 -> 46296 | F6: =$H$3-9 -> 46297 | G6: =$H$3-8 -> 46298 | H6: =$H$3-7 -> 46299 | I6: Wk1 Ttl
A7: Wday | I7: =IF(SUM(B7:H7)>0,SUM(B7:H7),"")
A8: Wend | I8: =IF(SUM(B8:H8)>0,SUM(B8:H8),"")
A9: Holiday | I9: =IF(SUM(B9:H9)>0,SUM(B9:H9),"")
A10: Run | I10: =IF(SUM(B10:H10)>0,SUM(B10:H10),"")
A11: Trans | I11: =IF(SUM(B11:H11)>0,SUM(B11:H11),"")
A12: Trg/Ed | I12: =IF(SUM(B12:H12)>0,SUM(B12:H12),"")
A13: Mtg | I13: =IF(SUM(B13:H13)>0,SUM(B13:H13),"")
B15: Mon | C15: Tue | D15: Wed | E15: Thu | F15: Fri | G15: Sat | H15: Sun
A16: Date: | B16: =$H$3-6 -> 46300 | C16: =$H$3-5 -> 46301 | D16: =$H$3-4 -> 46302 | E16: =$H$3-3 -> 46303 | F16: =$H$3-2 -> 46304 | G16: =$H$3-1 -> 46305 | H16: =$H$3-0 -> 46306 | I16: Wk2 Ttl
A17: Wday | I17: =IF(SUM(B17:H17)>0,SUM(B17:H17),"")
A18: Wend | I18: =IF(SUM(B18:H18)>0,SUM(B18:H18),"")
A19: Holiday | I19: =IF(SUM(B19:H19)>0,SUM(B19:H19),"")
A20: Run | I20: =IF(SUM(B20:H20)>0,SUM(B20:H20),"")
A21: Trans | I21: =IF(SUM(B21:H21)>0,SUM(B21:H21),"")
A22: Trg/Ed | I22: =IF(SUM(B22:H22)>0,SUM(B22:H22),"")
A23: Mtg | I23: =IF(SUM(B23:H23)>0,SUM(B23:H23),"")
B25: WDCH | C25: WECH | D25: Holiday | E25: RtR | F25: TrR | G25: Tr/Ed | H25: Mtg
A26: Totals | B26: =IF(SUM(I7,I17)>0,SUM(I7,I17),"") | C26: =IF(SUM(I8,I18)>0,SUM(I8,I18),"") | D26: =IF(SUM(I9,I19)>0,SUM(I9,I19),"") | E26: =IF(SUM(I10,I20)>0,SUM(I10,I20),"") | F26: =IF(SUM(I11,I21)>0,SUM(I11,I21),"") | G26: =IF(SUM(I12,I22)>0,SUM(I12,I22),"") | H26: =IF(SUM(I13,I23)>0,SUM(I13,I23),"")
A27: Rate | B27: 5 | C27: 7.4 | D27: 7.4 | E27: 15.69 | F27: 17.85 | G27: 15.69 | H27: 12
A28: Subtotal | B28: =IF(B26<>"",B26*B27,"") | C28: =IF(C26<>"",C26*C27,"") | D28: =IF(D26<>"",D26*D27,"") | E28: =IF(E26<>"",E26*E27,"") | F28: =IF(F26<>"",F26*F27,"") | G28: =IF(G26<>"",G26*G27,"") | H28: =IF(H26<>"",H26*H27,"")
A29: Gr Total | B29: =IF(SUM(B28:K28)>0,SUM(B28:K28),"")
A31: Ambulance Runs | F31: Ambulance Runs
A32: Date | B32: Transport to/from | E32: Hrs | F32: Date | G32: Transport to/from | J32: Hrs
A38: Notes:
A41: updated 10/5/25

Sheet 10.25.26
A1: FY2027 Time Sheet -- AAS
A3: Name: | B3: ='10.11.26'!B3 -> name | E3: Pay Period Ending: | H3: ='10.11.26'!H3+14 -> 46320
B5: Mon | C5: Tue | D5: Wed | E5: Thu | F5: Fri | G5: Sat | H5: Sun
A6: Date: | B6: =$H$3-13 -> 46307 | C6: =$H$3-12 -> 46308 | D6: =$H$3-11 -> 46309 | E6: =$H$3-10 -> 46310 | F6: =$H$3-9 -> 46311 | G6: =$H$3-8 -> 46312 | H6: =$H$3-7 -> 46313 | I6: Wk1 Ttl
A7: Wday | I7: =IF(SUM(B7:H7)>0,SUM(B7:H7),"")
A8: Wend | I8: =IF(SUM(B8:H8)>0,SUM(B8:H8),"")
A9: Holiday | I9: =IF(SUM(B9:H9)>0,SUM(B9:H9),"")
A10: Run | I10: =IF(SUM(B10:H10)>0,SUM(B10:H10),"")
A11: Trans | I11: =IF(SUM(B11:H11)>0,SUM(B11:H11),"")
A12: Trg/Ed | I12: =IF(SUM(B12:H12)>0,SUM(B12:H12),"")
A13: Mtg | I13: =IF(SUM(B13:H13)>0,SUM(B13:H13),"")
B15: Mon | C15: Tue | D15: Wed | E15: Thu | F15: Fri | G15: Sat | H15: Sun
A16: Date: | B16: =$H$3-6 -> 46314 | C16: =$H$3-5 -> 46315 | D16: =$H$3-4 -> 46316 | E16: =$H$3-3 -> 46317 | F16: =$H$3-2 -> 46318 | G16: =$H$3-1 -> 46319 | H16: =$H$3-0 -> 46320 | I16: Wk2 Ttl
A17: Wday | I17: =IF(SUM(B17:H17)>0,SUM(B17:H17),"")
A18: Wend | I18: =IF(SUM(B18:H18)>0,SUM(B18:H18),"")
A19: Holiday | I19: =IF(SUM(B19:H19)>0,SUM(B19:H19),"")
A20: Run | I20: =IF(SUM(B20:H20)>0,SUM(B20:H20),"")
A21: Trans | I21: =IF(SUM(B21:H21)>0,SUM(B21:H21),"")
A22: Trg/Ed | I22: =IF(SUM(B22:H22)>0,SUM(B22:H22),"")
A23: Mtg | I23: =IF(SUM(B23:H23)>0,SUM(B23:H23),"")
B25: WDCH | C25: WECH | D25: Holiday | E25: RtR | F25: TrR | G25: Tr/Ed | H25: Mtg
A26: Totals | B26: =IF(SUM(I7,I17)>0,SUM(I7,I17),"") | C26: =IF(SUM(I8,I18)>0,SUM(I8,I18),"") | D26: =IF(SUM(I9,I19)>0,SUM(I9,I19),"") | E26: =IF(SUM(I10,I20)>0,SUM(I10,I20),"") | F26: =IF(SUM(I11,I21)>0,SUM(I11,I21),"") | G26: =IF(SUM(I12,I22)>0,SUM(I12,I22),"") | H26: =IF(SUM(I13,I23)>0,SUM(I13,I23),"")
A27: Rate | B27: ='10.11.26'!B27 -> 5 | C27: ='10.11.26'!C27 -> 7.4 | D27: ='10.11.26'!D27 -> 7.4 | E27: ='10.11.26'!E27 -> 15.69 | F27: ='10.11.26'!F27 -> 17.85 | G27: ='10.11.26'!G27 -> 15.69 | H27: ='10.11.26'!H27 -> 12
A28: Subtotal | B28: =IF(B26<>"",B26*B27,"") | C28: =IF(C26<>"",C26*C27,"") | D28: =IF(D26<>"",D26*D27,"") | E28: =IF(E26<>"",E26*E27,"") | F28: =IF(F26<>"",F26*F27,"") | G28: =IF(G26<>"",G26*G27,"") | H28: =IF(H26<>"",H26*H27,"")
A29: Gr Total | B29: =IF(SUM(B28:K28)>0,SUM(B28:K28),"")
A31: Ambulance Runs | F31: Ambulance Runs
A32: Date | B32: Transport to/from | E32: Hrs | F32: Date | G32: Transport to/from | J32: Hrs
A38: Notes:
A41: updated 10/5/25

Sheet 11.08.26
A1: FY2027 Time Sheet -- AAS
A3: Name: | B3: ='10.11.26'!B3 -> name | E3: Pay Period Ending: | H3: ='10.11.26'!H3+28 -> 46334
B5: Mon | C5: Tue | D5: Wed | E5: Thu | F5: Fri | G5: Sat | H5: Sun
A6: Date: | B6: =$H$3-13 -> 46321 | C6: =$H$3-12 -> 46322 | D6: =$H$3-11 -> 46323 | E6: =$H$3-10 -> 46324 | F6: =$H$3-9 -> 46325 | G6: =$H$3-8 -> 46326 | H6: =$H$3-7 -> 46327 | I6: Wk1 Ttl
A7: Wday | I7: =IF(SUM(B7:H7)>0,SUM(B7:H7),"")
A8: Wend | I8: =IF(SUM(B8:H8)>0,SUM(B8:H8),"")
A9: Holiday | I9: =IF(SUM(B9:H9)>0,SUM(B9:H9),"")
A10: Run | I10: =IF(SUM(B10:H10)>0,SUM(B10:H10),"")
A11: Trans | I11: =IF(SUM(B11:H11)>0,SUM(B11:H11),"")
A12: Trg/Ed | I12: =IF(SUM(B12:H12)>0,SUM(B12:H12),"")
A13: Mtg | I13: =IF(SUM(B13:H13)>0,SUM(B13:H13),"")
B15: Mon | C15: Tue | D15: Wed | E15: Thu | F15: Fri | G15: Sat | H15: Sun
A16: Date: | B16: =$H$3-6 -> 46328 | C16: =$H$3-5 -> 46329 | D16: =$H$3-4 -> 46330 | E16: =$H$3-3 -> 46331 | F16: =$H$3-2 -> 46332 | G16: =$H$3-1 -> 46333 | H16: =$H$3-0 -> 46334 | I16: Wk2 Ttl
A17: Wday | I17: =IF(SUM(B17:H17)>0,SUM(B17:H17),"")
A18: Wend | I18: =IF(SUM(B18:H18)>0,SUM(B18:H18),"")
A19: Holiday | I19: =IF(SUM(B19:H19)>0,SUM(B19:H19),"")
A20: Run | I20: =IF(SUM(B20:H20)>0,SUM(B20:H20),"")
A21: Trans | I21: =IF(SUM(B21:H21)>0,SUM(B21:H21),"")
A22: Trg/Ed | I22: =IF(SUM(B22:H22)>0,SUM(B22:H22),"")
A23: Mtg | I23: =IF(SUM(B23:H23)>0,SUM(B23:H23),"")
B25: WDCH | C25: WECH | D25: Holiday | E25: RtR | F25: TrR | G25: Tr/Ed | H25: Mtg
A26: Totals | B26: =IF(SUM(I7,I17)>0,SUM(I7,I17),"") | C26: =IF(SUM(I8,I18)>0,SUM(I8,I18),"") | D26: =IF(SUM(I9,I19)>0,SUM(I9,I19),"") | E26: =IF(SUM(I10,I20)>0,SUM(I10,I20),"") | F26: =IF(SUM(I11,I21)>0,SUM(I11,I21),"") | G26: =IF(SUM(I12,I22)>0,SUM(I12,I22),"") | H26: =IF(SUM(I13,I23)>0,SUM(I13,I23),"")
A27: Rate | B27: ='10.11.26'!B27 -> 5 | C27: ='10.11.26'!C27 -> 7.4 | D27: ='10.11.26'!D27 -> 7.4 | E27: ='10.11.26'!E27 -> 15.69 | F27: ='10.11.26'!F27 -> 17.85 | G27: ='10.11.26'!G27 -> 15.69 | H27: ='10.11.26'!H27 -> 12
A28: Subtotal | B28: =IF(B26<>"",B26*B27,"") | C28: =IF(C26<>"",C26*C27,"") | D28: =IF(D26<>"",D26*D27,"") | E28: =IF(E26<>"",E26*E27,"") | F28: =IF(F26<>"",F26*F27,"") | G28: =IF(G26<>"",G26*G27,"") | H28: =IF(H26<>"",H26*H27,"")
A29: Gr Total | B29: =IF(SUM(B28:K28)>0,SUM(B28:K28),"")
A31: Ambulance Runs | F31: Ambulance Runs
A32: Date | B32: Transport to/from | E32: Hrs | F32: Date | G32: Transport to/from | J32: Hrs
A38: Notes:
A41: updated 10/5/25

Sheet 11.22.26
A1: FY2027 Time Sheet -- AAS
A3: Name: | B3: ='10.11.26'!B3 -> name | E3: Pay Period Ending: | H3: ='10.11.26'!H3+42 -> 46348
B5: Mon | C5: Tue | D5: Wed | E5: Thu | F5: Fri | G5: Sat | H5: Sun
A6: Date: | B6: =$H$3-13 -> 46335 | C6: =$H$3-12 -> 46336 | D6: =$H$3-11 -> 46337 | E6: =$H$3-10 -> 46338 | F6: =$H$3-9 -> 46339 | G6: =$H$3-8 -> 46340 | H6: =$H$3-7 -> 46341 | I6: Wk1 Ttl
A7: Wday | I7: =IF(SUM(B7:H7)>0,SUM(B7:H7),"")
A8: Wend | I8: =IF(SUM(B8:H8)>0,SUM(B8:H8),"")
A9: Holiday | I9: =IF(SUM(B9:H9)>0,SUM(B9:H9),"")
A10: Run | I10: =IF(SUM(B10:H10)>0,SUM(B10:H10),"")
A11: Trans | I11: =IF(SUM(B11:H11)>0,SUM(B11:H11),"")
A12: Trg/Ed | I12: =IF(SUM(B12:H12)>0,SUM(B12:H12),"")
A13: Mtg | I13: =IF(SUM(B13:H13)>0,SUM(B13:H13),"")
B15: Mon | C15: Tue | D15: Wed | E15: Thu | F15: Fri | G15: Sat | H15: Sun
A16: Date: | B16: =$H$3-6 -> 46342 | C16: =$H$3-5 -> 46343 | D16: =$H$3-4 -> 46344 | E16: =$H$3-3 -> 46345 | F16: =$H$3-2 -> 46346 | G16: =$H$3-1 -> 46347 | H16: =$H$3-0 -> 46348 | I16: Wk2 Ttl
A17: Wday | I17: =IF(SUM(B17:H17)>0,SUM(B17:H17),"")
A18: Wend | I18: =IF(SUM(B18:H18)>0,SUM(B18:H18),"")
A19: Holiday | I19: =IF(SUM(B19:H19)>0,SUM(B19:H19),"")
A20: Run | I20: =IF(SUM(B20:H20)>0,SUM(B20:H20),"")
A21: Trans | I21: =IF(SUM(B21:H21)>0,SUM(B21:H21),"")
A22: Trg/Ed | I22: =IF(SUM(B22:H22)>0,SUM(B22:H22),"")
A23: Mtg | I23: =IF(SUM(B23:H23)>0,SUM(B23:H23),"")
B25: WDCH | C25: WECH | D25: Holiday | E25: RtR | F25: TrR | G25: Tr/Ed | H25: Mtg
A26: Totals | B26: =IF(SUM(I7,I17)>0,SUM(I7,I17),"") | C26: =IF(SUM(I8,I18)>0,SUM(I8,I18),"") | D26: =IF(SUM(I9,I19)>0,SUM(I9,I19),"") | E26: =IF(SUM(I10,I20)>0,SUM(I10,I20),"") | F26: =IF(SUM(I11,I21)>0,SUM(I11,I21),"") | G26: =IF(SUM(I12,I22)>0,SUM(I12,I22),"") | H26: =IF(SUM(I13,I23)>0,SUM(I13,I23),"")
A27: Rate | B27: ='10.11.26'!B27 -> 5 | C27: ='10.11.26'!C27 -> 7.4 | D27: ='10.11.26'!D27 -> 7.4 | E27: ='10.11.26'!E27 -> 15.69 | F27: ='10.11.26'!F27 -> 17.85 | G27: ='10.11.26'!G27 -> 15.69 | H27: ='10.11.26'!H27 -> 12
A28: Subtotal | B28: =IF(B26<>"",B26*B27,"") | C28: =IF(C26<>"",C26*C27,"") | D28: =IF(D26<>"",D26*D27,"") | E28: =IF(E26<>"",E26*E27,"") | F28: =IF(F26<>"",F26*F27,"") | G28: =IF(G26<>"",G26*G27,"") | H28: =IF(H26<>"",H26*H27,"")
A29: Gr Total | B29: =IF(SUM(B28:K28)>0,SUM(B28:K28),"")
A31: Ambulance Runs | F31: Ambulance Runs
A32: Date | B32: Transport to/from | E32: Hrs | F32: Date | G32: Transport to/from | J32: Hrs
A38: Notes:
A41: updated 10/5/25

Sheet 12.06.26
A1: FY2027 Time Sheet -- AAS
A3: Name: | B3: ='10.11.26'!B3 -> name | E3: Pay Period Ending: | H3: ='10.11.26'!H3+56 -> 46362
B5: Mon | C5: Tue | D5: Wed | E5: Thu | F5: Fri | G5: Sat | H5: Sun
A6: Date: | B6: =$H$3-13 -> 46349 | C6: =$H$3-12 -> 46350 | D6: =$H$3-11 -> 46351 | E6: =$H$3-10 -> 46352 | F6: =$H$3-9 -> 46353 | G6: =$H$3-8 -> 46354 | H6: =$H$3-7 -> 46355 | I6: Wk1 Ttl
A7: Wday | I7: =IF(SUM(B7:H7)>0,SUM(B7:H7),"")
A8: Wend | I8: =IF(SUM(B8:H8)>0,SUM(B8:H8),"")
A9: Holiday | I9: =IF(SUM(B9:H9)>0,SUM(B9:H9),"")
A10: Run | I10: =IF(SUM(B10:H10)>0,SUM(B10:H10),"")
A11: Trans | I11: =IF(SUM(B11:H11)>0,SUM(B11:H11),"")
A12: Trg/Ed | I12: =IF(SUM(B12:H12)>0,SUM(B12:H12),"")
A13: Mtg | I13: =IF(SUM(B13:H13)>0,SUM(B13:H13),"")
B15: Mon | C15: Tue | D15: Wed | E15: Thu | F15: Fri | G15: Sat | H15: Sun
A16: Date: | B16: =$H$3-6 -> 46356 | C16: =$H$3-5 -> 46357 | D16: =$H$3-4 -> 46358 | E16: =$H$3-3 -> 46359 | F16: =$H$3-2 -> 46360 | G16: =$H$3-1 -> 46361 | H16: =$H$3-0 -> 46362 | I16: Wk2 Ttl
A17: Wday | I17: =IF(SUM(B17:H17)>0,SUM(B17:H17),"")
A18: Wend | I18: =IF(SUM(B18:H18)>0,SUM(B18:H18),"")
A19: Holiday | I19: =IF(SUM(B19:H19)>0,SUM(B19:H19),"")
A20: Run | I20: =IF(SUM(B20:H20)>0,SUM(B20:H20),"")
A21: Trans | I21: =IF(SUM(B21:H21)>0,SUM(B21:H21),"")
A22: Trg/Ed | I22: =IF(SUM(B22:H22)>0,SUM(B22:H22),"")
A23: Mtg | I23: =IF(SUM(B23:H23)>0,SUM(B23:H23),"")
B25: WDCH | C25: WECH | D25: Holiday | E25: RtR | F25: TrR | G25: Tr/Ed | H25: Mtg
A26: Totals | B26: =IF(SUM(I7,I17)>0,SUM(I7,I17),"") | C26: =IF(SUM(I8,I18)>0,SUM(I8,I18),"") | D26: =IF(SUM(I9,I19)>0,SUM(I9,I19),"") | E26: =IF(SUM(I10,I20)>0,SUM(I10,I20),"") | F26: =IF(SUM(I11,I21)>0,SUM(I11,I21),"") | G26: =IF(SUM(I12,I22)>0,SUM(I12,I22),"") | H26: =IF(SUM(I13,I23)>0,SUM(I13,I23),"")
A27: Rate | B27: ='10.11.26'!B27 -> 5 | C27: ='10.11.26'!C27 -> 7.4 | D27: ='10.11.26'!D27 -> 7.4 | E27: ='10.11.26'!E27 -> 15.69 | F27: ='10.11.26'!F27 -> 17.85 | G27: ='10.11.26'!G27 -> 15.69 | H27: ='10.11.26'!H27 -> 12
A28: Subtotal | B28: =IF(B26<>"",B26*B27,"") | C28: =IF(C26<>"",C26*C27,"") | D28: =IF(D26<>"",D26*D27,"") | E28: =IF(E26<>"",E26*E27,"") | F28: =IF(F26<>"",F26*F27,"") | G28: =IF(G26<>"",G26*G27,"") | H28: =IF(H26<>"",H26*H27,"")
A29: Gr Total | B29: =IF(SUM(B28:K28)>0,SUM(B28:K28),"")
A31: Ambulance Runs | F31: Ambulance Runs
A32: Date | B32: Transport to/from | E32: Hrs | F32: Date | G32: Transport to/from | J32: Hrs
A38: Notes:
A41: updated 10/5/25

Sheet 12.20.26
A1: FY2027 Time Sheet -- AAS
A3: Name: | B3: ='10.11.26'!B3 -> name | E3: Pay Period Ending: | H3: ='10.11.26'!H3+70 -> 46376
B5: Mon | C5: Tue | D5: Wed | E5: Thu | F5: Fri | G5: Sat | H5: Sun
A6: Date: | B6: =$H$3-13 -> 46363 | C6: =$H$3-12 -> 46364 | D6: =$H$3-11 -> 46365 | E6: =$H$3-10 -> 46366 | F6: =$H$3-9 -> 46367 | G6: =$H$3-8 -> 46368 | H6: =$H$3-7 -> 46369 | I6: Wk1 Ttl
A7: Wday | I7: =IF(SUM(B7:H7)>0,SUM(B7:H7),"")
A8: Wend | I8: =IF(SUM(B8:H8)>0,SUM(B8:H8),"")
A9: Holiday | I9: =IF(SUM(B9:H9)>0,SUM(B9:H9),"")
A10: Run | I10: =IF(SUM(B10:H10)>0,SUM(B10:H10),"")
A11: Trans | I11: =IF(SUM(B11:H11)>0,SUM(B11:H11),"")
A12: Trg/Ed | I12: =IF(SUM(B12:H12)>0,SUM(B12:H12),"")
A13: Mtg | I13: =IF(SUM(B13:H13)>0,SUM(B13:H13),"")
B15: Mon | C15: Tue | D15: Wed | E15: Thu | F15: Fri | G15: Sat | H15: Sun
A16: Date: | B16: =$H$3-6 -> 46370 | C16: =$H$3-5 -> 46371 | D16: =$H$3-4 -> 46372 | E16: =$H$3-3 -> 46373 | F16: =$H$3-2 -> 46374 | G16: =$H$3-1 -> 46375 | H16: =$H$3-0 -> 46376 | I16: Wk2 Ttl
A17: Wday | I17: =IF(SUM(B17:H17)>0,SUM(B17:H17),"")
A18: Wend | I18: =IF(SUM(B18:H18)>0,SUM(B18:H18),"")
A19: Holiday | I19: =IF(SUM(B19:H19)>0,SUM(B19:H19),"")
A20: Run | I20: =IF(SUM(B20:H20)>0,SUM(B20:H20),"")
A21: Trans | I21: =IF(SUM(B21:H21)>0,SUM(B21:H21),"")
A22: Trg/Ed | I22: =IF(SUM(B22:H22)>0,SUM(B22:H22),"")
A23: Mtg | I23: =IF(SUM(B23:H23)>0,SUM(B23:H23),"")
B25: WDCH | C25: WECH | D25: Holiday | E25: RtR | F25: TrR | G25: Tr/Ed | H25: Mtg
A26: Totals | B26: =IF(SUM(I7,I17)>0,SUM(I7,I17),"") | C26: =IF(SUM(I8,I18)>0,SUM(I8,I18),"") | D26: =IF(SUM(I9,I19)>0,SUM(I9,I19),"") | E26: =IF(SUM(I10,I20)>0,SUM(I10,I20),"") | F26: =IF(SUM(I11,I21)>0,SUM(I11,I21),"") | G26: =IF(SUM(I12,I22)>0,SUM(I12,I22),"") | H26: =IF(SUM(I13,I23)>0,SUM(I13,I23),"")
A27: Rate | B27: ='10.11.26'!B27 -> 5 | C27: ='10.11.26'!C27 -> 7.4 | D27: ='10.11.26'!D27 -> 7.4 | E27: ='10.11.26'!E27 -> 15.69 | F27: ='10.11.26'!F27 -> 17.85 | G27: ='10.11.26'!G27 -> 15.69 | H27: ='10.11.26'!H27 -> 12
A28: Subtotal | B28: =IF(B26<>"",B26*B27,"") | C28: =IF(C26<>"",C26*C27,"") | D28: =IF(D26<>"",D26*D27,"") | E28: =IF(E26<>"",E26*E27,"") | F28: =IF(F26<>"",F26*F27,"") | G28: =IF(G26<>"",G26*G27,"") | H28: =IF(H26<>"",H26*H27,"")
A29: Gr Total | B29: =IF(SUM(B28:K28)>0,SUM(B28:K28),"")
A31: Ambulance Runs | F31: Ambulance Runs
A32: Date | B32: Transport to/from | E32: Hrs | F32: Date | G32: Transport to/from | J32: Hrs
A38: Notes:
A41: updated 10/5/25

Sheet 01.03.27
A1: FY2027 Time Sheet -- AAS
A3: Name: | B3: ='10.11.26'!B3 -> name | E3: Pay Period Ending: | H3: ='10.11.26'!H3+84 -> 46390
B5: Mon | C5: Tue | D5: Wed | E5: Thu | F5: Fri | G5: Sat | H5: Sun
A6: Date: | B6: =$H$3-13 -> 46377 | C6: =$H$3-12 -> 46378 | D6: =$H$3-11 -> 46379 | E6: =$H$3-10 -> 46380 | F6: =$H$3-9 -> 46381 | G6: =$H$3-8 -> 46382 | H6: =$H$3-7 -> 46383 | I6: Wk1 Ttl
A7: Wday | I7: =IF(SUM(B7:H7)>0,SUM(B7:H7),"")
A8: Wend | I8: =IF(SUM(B8:H8)>0,SUM(B8:H8),"")
A9: Holiday | I9: =IF(SUM(B9:H9)>0,SUM(B9:H9),"")
A10: Run | I10: =IF(SUM(B10:H10)>0,SUM(B10:H10),"")
A11: Trans | I11: =IF(SUM(B11:H11)>0,SUM(B11:H11),"")
A12: Trg/Ed | I12: =IF(SUM(B12:H12)>0,SUM(B12:H12),"")
A13: Mtg | I13: =IF(SUM(B13:H13)>0,SUM(B13:H13),"")
B15: Mon | C15: Tue | D15: Wed | E15: Thu | F15: Fri | G15: Sat | H15: Sun
A16: Date: | B16: =$H$3-6 -> 46384 | C16: =$H$3-5 -> 46385 | D16: =$H$3-4 -> 46386 | E16: =$H$3-3 -> 46387 | F16: =$H$3-2 -> 46388 | G16: =$H$3-1 -> 46389 | H16: =$H$3-0 -> 46390 | I16: Wk2 Ttl
A17: Wday | I17: =IF(SUM(B17:H17)>0,SUM(B17:H17),"")
A18: Wend | I18: =IF(SUM(B18:H18)>0,SUM(B18:H18),"")
A19: Holiday | I19: =IF(SUM(B19:H19)>0,SUM(B19:H19),"")
A20: Run | I20: =IF(SUM(B20:H20)>0,SUM(B20:H20),"")
A21: Trans | I21: =IF(SUM(B21:H21)>0,SUM(B21:H21),"")
A22: Trg/Ed | I22: =IF(SUM(B22:H22)>0,SUM(B22:H22),"")
A23: Mtg | I23: =IF(SUM(B23:H23)>0,SUM(B23:H23),"")
B25: WDCH | C25: WECH | D25: Holiday | E25: RtR | F25: TrR | G25: Tr/Ed | H25: Mtg
A26: Totals | B26: =IF(SUM(I7,I17)>0,SUM(I7,I17),"") | C26: =IF(SUM(I8,I18)>0,SUM(I8,I18),"") | D26: =IF(SUM(I9,I19)>0,SUM(I9,I19),"") | E26: =IF(SUM(I10,I20)>0,SUM(I10,I20),"") | F26: =IF(SUM(I11,I21)>0,SUM(I11,I21),"") | G26: =IF(SUM(I12,I22)>0,SUM(I12,I22),"") | H26: =IF(SUM(I13,I23)>0,SUM(I13,I23),"")
A27: Rate | B27: ='10.11.26'!B27 -> 5 | C27: ='10.11.26'!C27 -> 7.4 | D27: ='10.11.26'!D27 -> 7.4 | E27: ='10.11.26'!E27 -> 15.69 | F27: ='10.11.26'!F27 -> 17.85 | G27: ='10.11.26'!G27 -> 15.69 | H27: ='10.11.26'!H27 -> 12
A28: Subtotal | B28: =IF(B26<>"",B26*B27,"") | C28: =IF(C26<>"",C26*C27,"") | D28: =IF(D26<>"",D26*D27,"") | E28: =IF(E26<>"",E26*E27,"") | F28: =IF(F26<>"",F26*F27,"") | G28: =IF(G26<>"",G26*G27,"") | H28: =IF(H26<>"",H26*H27,"")
A29: Gr Total | B29: =IF(SUM(B28:K28)>0,SUM(B28:K28),"")
A31: Ambulance Runs | F31: Ambulance Runs
A32: Date | B32: Transport to/from | E32: Hrs | F32: Date | G32: Transport to/from | J32: Hrs
A38: Notes:
A41: updated 10/5/25

Sheet 01.17.27
A1: FY2027 Time Sheet -- AAS
A3: Name: | B3: ='10.11.26'!B3 -> name | E3: Pay Period Ending: | H3: ='10.11.26'!H3+98 -> 46404
B5: Mon | C5: Tue | D5: Wed | E5: Thu | F5: Fri | G5: Sat | H5: Sun
A6: Date: | B6: =$H$3-13 -> 46391 | C6: =$H$3-12 -> 46392 | D6: =$H$3-11 -> 46393 | E6: =$H$3-10 -> 46394 | F6: =$H$3-9 -> 46395 | G6: =$H$3-8 -> 46396 | H6: =$H$3-7 -> 46397 | I6: Wk1 Ttl
A7: Wday | I7: =IF(SUM(B7:H7)>0,SUM(B7:H7),"")
A8: Wend | I8: =IF(SUM(B8:H8)>0,SUM(B8:H8),"")
A9: Holiday | I9: =IF(SUM(B9:H9)>0,SUM(B9:H9),"")
A10: Run | I10: =IF(SUM(B10:H10)>0,SUM(B10:H10),"")
A11: Trans | I11: =IF(SUM(B11:H11)>0,SUM(B11:H11),"")
A12: Trg/Ed | I12: =IF(SUM(B12:H12)>0,SUM(B12:H12),"")
A13: Mtg | I13: =IF(SUM(B13:H13)>0,SUM(B13:H13),"")
B15: Mon | C15: Tue | D15: Wed | E15: Thu | F15: Fri | G15: Sat | H15: Sun
A16: Date: | B16: =$H$3-6 -> 46398 | C16: =$H$3-5 -> 46399 | D16: =$H$3-4 -> 46400 | E16: =$H$3-3 -> 46401 | F16: =$H$3-2 -> 46402 | G16: =$H$3-1 -> 46403 | H16: =$H$3-0 -> 46404 | I16: Wk2 Ttl
A17: Wday | I17: =IF(SUM(B17:H17)>0,SUM(B17:H17),"")
A18: Wend | I18: =IF(SUM(B18:H18)>0,SUM(B18:H18),"")
A19: Holiday | I19: =IF(SUM(B19:H19)>0,SUM(B19:H19),"")
A20: Run | I20: =IF(SUM(B20:H20)>0,SUM(B20:H20),"")
A21: Trans | I21: =IF(SUM(B21:H21)>0,SUM(B21:H21),"")
A22: Trg/Ed | I22: =IF(SUM(B22:H22)>0,SUM(B22:H22),"")
A23: Mtg | I23: =IF(SUM(B23:H23)>0,SUM(B23:H23),"")
B25: WDCH | C25: WECH | D25: Holiday | E25: RtR | F25: TrR | G25: Tr/Ed | H25: Mtg
A26: Totals | B26: =IF(SUM(I7,I17)>0,SUM(I7,I17),"") | C26: =IF(SUM(I8,I18)>0,SUM(I8,I18),"") | D26: =IF(SUM(I9,I19)>0,SUM(I9,I19),"") | E26: =IF(SUM(I10,I20)>0,SUM(I10,I20),"") | F26: =IF(SUM(I11,I21)>0,SUM(I11,I21),"") | G26: =IF(SUM(I12,I22)>0,SUM(I12,I22),"") | H26: =IF(SUM(I13,I23)>0,SUM(I13,I23),"")
A27: Rate | B27: ='10.11.26'!B27 -> 5 | C27: ='10.11.26'!C27 -> 7.4 | D27: ='10.11.26'!D27 -> 7.4 | E27: ='10.11.26'!E27 -> 15.69 | F27: ='10.11.26'!F27 -> 17.85 | G27: ='10.11.26'!G27 -> 15.69 | H27: ='10.11.26'!H27 -> 12
A28: Subtotal | B28: =IF(B26<>"",B26*B27,"") | C28: =IF(C26<>"",C26*C27,"") | D28: =IF(D26<>"",D26*D27,"") | E28: =IF(E26<>"",E26*E27,"") | F28: =IF(F26<>"",F26*F27,"") | G28: =IF(G26<>"",G26*G27,"") | H28: =IF(H26<>"",H26*H27,"")
A29: Gr Total | B29: =IF(SUM(B28:K28)>0,SUM(B28:K28),"")
A31: Ambulance Runs | F31: Ambulance Runs
A32: Date | B32: Transport to/from | E32: Hrs | F32: Date | G32: Transport to/from | J32: Hrs
A38: Notes:
A41: updated 10/5/25

Sheet 01.31.27
A1: FY2027 Time Sheet -- AAS
A3: Name: | B3: ='10.11.26'!B3 -> name | E3: Pay Period Ending: | H3: ='10.11.26'!H3+112 -> 46418
B5: Mon | C5: Tue | D5: Wed | E5: Thu | F5: Fri | G5: Sat | H5: Sun
A6: Date: | B6: =$H$3-13 -> 46405 | C6: =$H$3-12 -> 46406 | D6: =$H$3-11 -> 46407 | E6: =$H$3-10 -> 46408 | F6: =$H$3-9 -> 46409 | G6: =$H$3-8 -> 46410 | H6: =$H$3-7 -> 46411 | I6: Wk1 Ttl
A7: Wday | I7: =IF(SUM(B7:H7)>0,SUM(B7:H7),"")
A8: Wend | I8: =IF(SUM(B8:H8)>0,SUM(B8:H8),"")
A9: Holiday | I9: =IF(SUM(B9:H9)>0,SUM(B9:H9),"")
A10: Run | I10: =IF(SUM(B10:H10)>0,SUM(B10:H10),"")
A11: Trans | I11: =IF(SUM(B11:H11)>0,SUM(B11:H11),"")
A12: Trg/Ed | I12: =IF(SUM(B12:H12)>0,SUM(B12:H12),"")
A13: Mtg | I13: =IF(SUM(B13:H13)>0,SUM(B13:H13),"")
B15: Mon | C15: Tue | D15: Wed | E15: Thu | F15: Fri | G15: Sat | H15: Sun
A16: Date: | B16: =$H$3-6 -> 46412 | C16: =$H$3-5 -> 46413 | D16: =$H$3-4 -> 46414 | E16: =$H$3-3 -> 46415 | F16: =$H$3-2 -> 46416 | G16: =$H$3-1 -> 46417 | H16: =$H$3-0 -> 46418 | I16: Wk2 Ttl
A17: Wday | I17: =IF(SUM(B17:H17)>0,SUM(B17:H17),"")
A18: Wend | I18: =IF(SUM(B18:H18)>0,SUM(B18:H18),"")
A19: Holiday | I19: =IF(SUM(B19:H19)>0,SUM(B19:H19),"")
A20: Run | I20: =IF(SUM(B20:H20)>0,SUM(B20:H20),"")
A21: Trans | I21: =IF(SUM(B21:H21)>0,SUM(B21:H21),"")
A22: Trg/Ed | I22: =IF(SUM(B22:H22)>0,SUM(B22:H22),"")
A23: Mtg | I23: =IF(SUM(B23:H23)>0,SUM(B23:H23),"")
B25: WDCH | C25: WECH | D25: Holiday | E25: RtR | F25: TrR | G25: Tr/Ed | H25: Mtg
A26: Totals | B26: =IF(SUM(I7,I17)>0,SUM(I7,I17),"") | C26: =IF(SUM(I8,I18)>0,SUM(I8,I18),"") | D26: =IF(SUM(I9,I19)>0,SUM(I9,I19),"") | E26: =IF(SUM(I10,I20)>0,SUM(I10,I20),"") | F26: =IF(SUM(I11,I21)>0,SUM(I11,I21),"") | G26: =IF(SUM(I12,I22)>0,SUM(I12,I22),"") | H26: =IF(SUM(I13,I23)>0,SUM(I13,I23),"")
A27: Rate | B27: ='10.11.26'!B27 -> 5 | C27: ='10.11.26'!C27 -> 7.4 | D27: ='10.11.26'!D27 -> 7.4 | E27: ='10.11.26'!E27 -> 15.69 | F27: ='10.11.26'!F27 -> 17.85 | G27: ='10.11.26'!G27 -> 15.69 | H27: ='10.11.26'!H27 -> 12
A28: Subtotal | B28: =IF(B26<>"",B26*B27,"") | C28: =IF(C26<>"",C26*C27,"") | D28: =IF(D26<>"",D26*D27,"") | E28: =IF(E26<>"",E26*E27,"") | F28: =IF(F26<>"",F26*F27,"") | G28: =IF(G26<>"",G26*G27,"") | H28: =IF(H26<>"",H26*H27,"")
A29: Gr Total | B29: =IF(SUM(B28:K28)>0,SUM(B28:K28),"")
A31: Ambulance Runs | F31: Ambulance Runs
A32: Date | B32: Transport to/from | E32: Hrs | F32: Date | G32: Transport to/from | J32: Hrs
A38: Notes:
A41: updated 10/5/25

Sheet 02.14.27
A1: FY2027 Time Sheet -- AAS
A3: Name: | B3: ='10.11.26'!B3 -> name | E3: Pay Period Ending: | H3: ='10.11.26'!H3+126 -> 46432
B5: Mon | C5: Tue | D5: Wed | E5: Thu | F5: Fri | G5: Sat | H5: Sun
A6: Date: | B6: =$H$3-13 -> 46419 | C6: =$H$3-12 -> 46420 | D6: =$H$3-11 -> 46421 | E6: =$H$3-10 -> 46422 | F6: =$H$3-9 -> 46423 | G6: =$H$3-8 -> 46424 | H6: =$H$3-7 -> 46425 | I6: Wk1 Ttl
A7: Wday | I7: =IF(SUM(B7:H7)>0,SUM(B7:H7),"")
A8: Wend | I8: =IF(SUM(B8:H8)>0,SUM(B8:H8),"")
A9: Holiday | I9: =IF(SUM(B9:H9)>0,SUM(B9:H9),"")
A10: Run | I10: =IF(SUM(B10:H10)>0,SUM(B10:H10),"")
A11: Trans | I11: =IF(SUM(B11:H11)>0,SUM(B11:H11),"")
A12: Trg/Ed | I12: =IF(SUM(B12:H12)>0,SUM(B12:H12),"")
A13: Mtg | I13: =IF(SUM(B13:H13)>0,SUM(B13:H13),"")
B15: Mon | C15: Tue | D15: Wed | E15: Thu | F15: Fri | G15: Sat | H15: Sun
A16: Date: | B16: =$H$3-6 -> 46426 | C16: =$H$3-5 -> 46427 | D16: =$H$3-4 -> 46428 | E16: =$H$3-3 -> 46429 | F16: =$H$3-2 -> 46430 | G16: =$H$3-1 -> 46431 | H16: =$H$3-0 -> 46432 | I16: Wk2 Ttl
A17: Wday | I17: =IF(SUM(B17:H17)>0,SUM(B17:H17),"")
A18: Wend | I18: =IF(SUM(B18:H18)>0,SUM(B18:H18),"")
A19: Holiday | I19: =IF(SUM(B19:H19)>0,SUM(B19:H19),"")
A20: Run | I20: =IF(SUM(B20:H20)>0,SUM(B20:H20),"")
A21: Trans | I21: =IF(SUM(B21:H21)>0,SUM(B21:H21),"")
A22: Trg/Ed | I22: =IF(SUM(B22:H22)>0,SUM(B22:H22),"")
A23: Mtg | I23: =IF(SUM(B23:H23)>0,SUM(B23:H23),"")
B25: WDCH | C25: WECH | D25: Holiday | E25: RtR | F25: TrR | G25: Tr/Ed | H25: Mtg
A26: Totals | B26: =IF(SUM(I7,I17)>0,SUM(I7,I17),"") | C26: =IF(SUM(I8,I18)>0,SUM(I8,I18),"") | D26: =IF(SUM(I9,I19)>0,SUM(I9,I19),"") | E26: =IF(SUM(I10,I20)>0,SUM(I10,I20),"") | F26: =IF(SUM(I11,I21)>0,SUM(I11,I21),"") | G26: =IF(SUM(I12,I22)>0,SUM(I12,I22),"") | H26: =IF(SUM(I13,I23)>0,SUM(I13,I23),"")
A27: Rate | B27: ='10.11.26'!B27 -> 5 | C27: ='10.11.26'!C27 -> 7.4 | D27: ='10.11.26'!D27 -> 7.4 | E27: ='10.11.26'!E27 -> 15.69 | F27: ='10.11.26'!F27 -> 17.85 | G27: ='10.11.26'!G27 -> 15.69 | H27: ='10.11.26'!H27 -> 12
A28: Subtotal | B28: =IF(B26<>"",B26*B27,"") | C28: =IF(C26<>"",C26*C27,"") | D28: =IF(D26<>"",D26*D27,"") | E28: =IF(E26<>"",E26*E27,"") | F28: =IF(F26<>"",F26*F27,"") | G28: =IF(G26<>"",G26*G27,"") | H28: =IF(H26<>"",H26*H27,"")
A29: Gr Total | B29: =IF(SUM(B28:K28)>0,SUM(B28:K28),"")
A31: Ambulance Runs | F31: Ambulance Runs
A32: Date | B32: Transport to/from | E32: Hrs | F32: Date | G32: Transport to/from | J32: Hrs
A38: Notes:
A41: updated 10/5/25

Sheet 02.28.27
A1: FY2027 Time Sheet -- AAS
A3: Name: | B3: ='10.11.26'!B3 -> name | E3: Pay Period Ending: | H3: ='10.11.26'!H3+140 -> 46446
B5: Mon | C5: Tue | D5: Wed | E5: Thu | F5: Fri | G5: Sat | H5: Sun
A6: Date: | B6: =$H$3-13 -> 46433 | C6: =$H$3-12 -> 46434 | D6: =$H$3-11 -> 46435 | E6: =$H$3-10 -> 46436 | F6: =$H$3-9 -> 46437 | G6: =$H$3-8 -> 46438 | H6: =$H$3-7 -> 46439 | I6: Wk1 Ttl
A7: Wday | I7: =IF(SUM(B7:H7)>0,SUM(B7:H7),"")
A8: Wend | I8: =IF(SUM(B8:H8)>0,SUM(B8:H8),"")
A9: Holiday | I9: =IF(SUM(B9:H9)>0,SUM(B9:H9),"")
A10: Run | I10: =IF(SUM(B10:H10)>0,SUM(B10:H10),"")
A11: Trans | I11: =IF(SUM(B11:H11)>0,SUM(B11:H11),"")
A12: Trg/Ed | I12: =IF(SUM(B12:H12)>0,SUM(B12:H12),"")
A13: Mtg | I13: =IF(SUM(B13:H13)>0,SUM(B13:H13),"")
B15: Mon | C15: Tue | D15: Wed | E15: Thu | F15: Fri | G15: Sat | H15: Sun
A16: Date: | B16: =$H$3-6 -> 46440 | C16: =$H$3-5 -> 46441 | D16: =$H$3-4 -> 46442 | E16: =$H$3-3 -> 46443 | F16: =$H$3-2 -> 46444 | G16: =$H$3-1 -> 46445 | H16: =$H$3-0 -> 46446 | I16: Wk2 Ttl
A17: Wday | I17: =IF(SUM(B17:H17)>0,SUM(B17:H17),"")
A18: Wend | I18: =IF(SUM(B18:H18)>0,SUM(B18:H18),"")
A19: Holiday | I19: =IF(SUM(B19:H19)>0,SUM(B19:H19),"")
A20: Run | I20: =IF(SUM(B20:H20)>0,SUM(B20:H20),"")
A21: Trans | I21: =IF(SUM(B21:H21)>0,SUM(B21:H21),"")
A22: Trg/Ed | I22: =IF(SUM(B22:H22)>0,SUM(B22:H22),"")
A23: Mtg | I23: =IF(SUM(B23:H23)>0,SUM(B23:H23),"")
B25: WDCH | C25: WECH | D25: Holiday | E25: RtR | F25: TrR | G25: Tr/Ed | H25: Mtg
A26: Totals | B26: =IF(SUM(I7,I17)>0,SUM(I7,I17),"") | C26: =IF(SUM(I8,I18)>0,SUM(I8,I18),"") | D26: =IF(SUM(I9,I19)>0,SUM(I9,I19),"") | E26: =IF(SUM(I10,I20)>0,SUM(I10,I20),"") | F26: =IF(SUM(I11,I21)>0,SUM(I11,I21),"") | G26: =IF(SUM(I12,I22)>0,SUM(I12,I22),"") | H26: =IF(SUM(I13,I23)>0,SUM(I13,I23),"")
A27: Rate | B27: ='10.11.26'!B27 -> 5 | C27: ='10.11.26'!C27 -> 7.4 | D27: ='10.11.26'!D27 -> 7.4 | E27: ='10.11.26'!E27 -> 15.69 | F27: ='10.11.26'!F27 -> 17.85 | G27: ='10.11.26'!G27 -> 15.69 | H27: ='10.11.26'!H27 -> 12
A28: Subtotal | B28: =IF(B26<>"",B26*B27,"") | C28: =IF(C26<>"",C26*C27,"") | D28: =IF(D26<>"",D26*D27,"") | E28: =IF(E26<>"",E26*E27,"") | F28: =IF(F26<>"",F26*F27,"") | G28: =IF(G26<>"",G26*G27,"") | H28: =IF(H26<>"",H26*H27,"")
A29: Gr Total | B29: =IF(SUM(B28:K28)>0,SUM(B28:K28),"")
A31: Ambulance Runs | F31: Ambulance Runs
A32: Date | B32: Transport to/from | E32: Hrs | F32: Date | G32: Transport to/from | J32: Hrs
A38: Notes:
A41: updated 10/5/25

Sheet 03.14.27
A1: FY2027 Time Sheet -- AAS
A3: Name: | B3: ='10.11.26'!B3 -> name | E3: Pay Period Ending: | H3: ='10.11.26'!H3+154 -> 46460
B5: Mon | C5: Tue | D5: Wed | E5: Thu | F5: Fri | G5: Sat | H5: Sun
A6: Date: | B6: =$H$3-13 -> 46447 | C6: =$H$3-12 -> 46448 | D6: =$H$3-11 -> 46449 | E6: =$H$3-10 -> 46450 | F6: =$H$3-9 -> 46451 | G6: =$H$3-8 -> 46452 | H6: =$H$3-7 -> 46453 | I6: Wk1 Ttl
A7: Wday | I7: =IF(SUM(B7:H7)>0,SUM(B7:H7),"")
A8: Wend | I8: =IF(SUM(B8:H8)>0,SUM(B8:H8),"")
A9: Holiday | I9: =IF(SUM(B9:H9)>0,SUM(B9:H9),"")
A10: Run | I10: =IF(SUM(B10:H10)>0,SUM(B10:H10),"")
A11: Trans | I11: =IF(SUM(B11:H11)>0,SUM(B11:H11),"")
A12: Trg/Ed | I12: =IF(SUM(B12:H12)>0,SUM(B12:H12),"")
A13: Mtg | I13: =IF(SUM(B13:H13)>0,SUM(B13:H13),"")
B15: Mon | C15: Tue | D15: Wed | E15: Thu | F15: Fri | G15: Sat | H15: Sun
A16: Date: | B16: =$H$3-6 -> 46454 | C16: =$H$3-5 -> 46455 | D16: =$H$3-4 -> 46456 | E16: =$H$3-3 -> 46457 | F16: =$H$3-2 -> 46458 | G16: =$H$3-1 -> 46459 | H16: =$H$3-0 -> 46460 | I16: Wk2 Ttl
A17: Wday | I17: =IF(SUM(B17:H17)>0,SUM(B17:H17),"")
A18: Wend | I18: =IF(SUM(B18:H18)>0,SUM(B18:H18),"")
A19: Holiday | I19: =IF(SUM(B19:H19)>0,SUM(B19:H19),"")
A20: Run | I20: =IF(SUM(B20:H20)>0,SUM(B20:H20),"")
A21: Trans | I21: =IF(SUM(B21:H21)>0,SUM(B21:H21),"")
A22: Trg/Ed | I22: =IF(SUM(B22:H22)>0,SUM(B22:H22),"")
A23: Mtg | I23: =IF(SUM(B23:H23)>0,SUM(B23:H23),"")
B25: WDCH | C25: WECH | D25: Holiday | E25: RtR | F25: TrR | G25: Tr/Ed | H25: Mtg
A26: Totals | B26: =IF(SUM(I7,I17)>0,SUM(I7,I17),"") | C26: =IF(SUM(I8,I18)>0,SUM(I8,I18),"") | D26: =IF(SUM(I9,I19)>0,SUM(I9,I19),"") | E26: =IF(SUM(I10,I20)>0,SUM(I10,I20),"") | F26: =IF(SUM(I11,I21)>0,SUM(I11,I21),"") | G26: =IF(SUM(I12,I22)>0,SUM(I12,I22),"") | H26: =IF(SUM(I13,I23)>0,SUM(I13,I23),"")
A27: Rate | B27: ='10.11.26'!B27 -> 5 | C27: ='10.11.26'!C27 -> 7.4 | D27: ='10.11.26'!D27 -> 7.4 | E27: ='10.11.26'!E27 -> 15.69 | F27: ='10.11.26'!F27 -> 17.85 | G27: ='10.11.26'!G27 -> 15.69 | H27: ='10.11.26'!H27 -> 12
A28: Subtotal | B28: =IF(B26<>"",B26*B27,"") | C28: =IF(C26<>"",C26*C27,"") | D28: =IF(D26<>"",D26*D27,"") | E28: =IF(E26<>"",E26*E27,"") | F28: =IF(F26<>"",F26*F27,"") | G28: =IF(G26<>"",G26*G27,"") | H28: =IF(H26<>"",H26*H27,"")
A29: Gr Total | B29: =IF(SUM(B28:K28)>0,SUM(B28:K28),"")
A31: Ambulance Runs | F31: Ambulance Runs
A32: Date | B32: Transport to/from | E32: Hrs | F32: Date | G32: Transport to/from | J32: Hrs
A38: Notes:
A41: updated 10/5/25

Sheet 03.28.27
A1: FY2027 Time Sheet -- AAS
A3: Name: | B3: ='10.11.26'!B3 -> name | E3: Pay Period Ending: | H3: ='10.11.26'!H3+168 -> 46474
B5: Mon | C5: Tue | D5: Wed | E5: Thu | F5: Fri | G5: Sat | H5: Sun
A6: Date: | B6: =$H$3-13 -> 46461 | C6: =$H$3-12 -> 46462 | D6: =$H$3-11 -> 46463 | E6: =$H$3-10 -> 46464 | F6: =$H$3-9 -> 46465 | G6: =$H$3-8 -> 46466 | H6: =$H$3-7 -> 46467 | I6: Wk1 Ttl
A7: Wday | I7: =IF(SUM(B7:H7)>0,SUM(B7:H7),"")
A8: Wend | I8: =IF(SUM(B8:H8)>0,SUM(B8:H8),"")
A9: Holiday | I9: =IF(SUM(B9:H9)>0,SUM(B9:H9),"")
A10: Run | I10: =IF(SUM(B10:H10)>0,SUM(B10:H10),"")
A11: Trans | I11: =IF(SUM(B11:H11)>0,SUM(B11:H11),"")
A12: Trg/Ed | I12: =IF(SUM(B12:H12)>0,SUM(B12:H12),"")
A13: Mtg | I13: =IF(SUM(B13:H13)>0,SUM(B13:H13),"")
B15: Mon | C15: Tue | D15: Wed | E15: Thu | F15: Fri | G15: Sat | H15: Sun
A16: Date: | B16: =$H$3-6 -> 46468 | C16: =$H$3-5 -> 46469 | D16: =$H$3-4 -> 46470 | E16: =$H$3-3 -> 46471 | F16: =$H$3-2 -> 46472 | G16: =$H$3-1 -> 46473 | H16: =$H$3-0 -> 46474 | I16: Wk2 Ttl
A17: Wday | I17: =IF(SUM(B17:H17)>0,SUM(B17:H17),"")
A18: Wend | I18: =IF(SUM(B18:H18)>0,SUM(B18:H18),"")
A19: Holiday | I19: =IF(SUM(B19:H19)>0,SUM(B19:H19),"")
A20: Run | I20: =IF(SUM(B20:H20)>0,SUM(B20:H20),"")
A21: Trans | I21: =IF(SUM(B21:H21)>0,SUM(B21:H21),"")
A22: Trg/Ed | I22: =IF(SUM(B22:H22)>0,SUM(B22:H22),"")
A23: Mtg | I23: =IF(SUM(B23:H23)>0,SUM(B23:H23),"")
B25: WDCH | C25: WECH | D25: Holiday | E25: RtR | F25: TrR | G25: Tr/Ed | H25: Mtg
A26: Totals | B26: =IF(SUM(I7,I17)>0,SUM(I7,I17),"") | C26: =IF(SUM(I8,I18)>0,SUM(I8,I18),"") | D26: =IF(SUM(I9,I19)>0,SUM(I9,I19),"") | E26: =IF(SUM(I10,I20)>0,SUM(I10,I20),"") | F26: =IF(SUM(I11,I21)>0,SUM(I11,I21),"") | G26: =IF(SUM(I12,I22)>0,SUM(I12,I22),"") | H26: =IF(SUM(I13,I23)>0,SUM(I13,I23),"")
A27: Rate | B27: ='10.11.26'!B27 -> 5 | C27: ='10.11.26'!C27 -> 7.4 | D27: ='10.11.26'!D27 -> 7.4 | E27: ='10.11.26'!E27 -> 15.69 | F27: ='10.11.26'!F27 -> 17.85 | G27: ='10.11.26'!G27 -> 15.69 | H27: ='10.11.26'!H27 -> 12
A28: Subtotal | B28: =IF(B26<>"",B26*B27,"") | C28: =IF(C26<>"",C26*C27,"") | D28: =IF(D26<>"",D26*D27,"") | E28: =IF(E26<>"",E26*E27,"") | F28: =IF(F26<>"",F26*F27,"") | G28: =IF(G26<>"",G26*G27,"") | H28: =IF(H26<>"",H26*H27,"")
A29: Gr Total | B29: =IF(SUM(B28:K28)>0,SUM(B28:K28),"")
A31: Ambulance Runs | F31: Ambulance Runs
A32: Date | B32: Transport to/from | E32: Hrs | F32: Date | G32: Transport to/from | J32: Hrs
A38: Notes:
A41: updated 10/5/25

Sheet 04.11.27
A1: FY2027 Time Sheet -- AAS
A3: Name: | B3: ='10.11.26'!B3 -> name | E3: Pay Period Ending: | H3: ='10.11.26'!H3+182 -> 46488
B5: Mon | C5: Tue | D5: Wed | E5: Thu | F5: Fri | G5: Sat | H5: Sun
A6: Date: | B6: =$H$3-13 -> 46475 | C6: =$H$3-12 -> 46476 | D6: =$H$3-11 -> 46477 | E6: =$H$3-10 -> 46478 | F6: =$H$3-9 -> 46479 | G6: =$H$3-8 -> 46480 | H6: =$H$3-7 -> 46481 | I6: Wk1 Ttl
A7: Wday | I7: =IF(SUM(B7:H7)>0,SUM(B7:H7),"")
A8: Wend | I8: =IF(SUM(B8:H8)>0,SUM(B8:H8),"")
A9: Holiday | I9: =IF(SUM(B9:H9)>0,SUM(B9:H9),"")
A10: Run | I10: =IF(SUM(B10:H10)>0,SUM(B10:H10),"")
A11: Trans | I11: =IF(SUM(B11:H11)>0,SUM(B11:H11),"")
A12: Trg/Ed | I12: =IF(SUM(B12:H12)>0,SUM(B12:H12),"")
A13: Mtg | I13: =IF(SUM(B13:H13)>0,SUM(B13:H13),"")
B15: Mon | C15: Tue | D15: Wed | E15: Thu | F15: Fri | G15: Sat | H15: Sun
A16: Date: | B16: =$H$3-6 -> 46482 | C16: =$H$3-5 -> 46483 | D16: =$H$3-4 -> 46484 | E16: =$H$3-3 -> 46485 | F16: =$H$3-2 -> 46486 | G16: =$H$3-1 -> 46487 | H16: =$H$3-0 -> 46488 | I16: Wk2 Ttl
A17: Wday | I17: =IF(SUM(B17:H17)>0,SUM(B17:H17),"")
A18: Wend | I18: =IF(SUM(B18:H18)>0,SUM(B18:H18),"")
A19: Holiday | I19: =IF(SUM(B19:H19)>0,SUM(B19:H19),"")
A20: Run | I20: =IF(SUM(B20:H20)>0,SUM(B20:H20),"")
A21: Trans | I21: =IF(SUM(B21:H21)>0,SUM(B21:H21),"")
A22: Trg/Ed | I22: =IF(SUM(B22:H22)>0,SUM(B22:H22),"")
A23: Mtg | I23: =IF(SUM(B23:H23)>0,SUM(B23:H23),"")
B25: WDCH | C25: WECH | D25: Holiday | E25: RtR | F25: TrR | G25: Tr/Ed | H25: Mtg
A26: Totals | B26: =IF(SUM(I7,I17)>0,SUM(I7,I17),"") | C26: =IF(SUM(I8,I18)>0,SUM(I8,I18),"") | D26: =IF(SUM(I9,I19)>0,SUM(I9,I19),"") | E26: =IF(SUM(I10,I20)>0,SUM(I10,I20),"") | F26: =IF(SUM(I11,I21)>0,SUM(I11,I21),"") | G26: =IF(SUM(I12,I22)>0,SUM(I12,I22),"") | H26: =IF(SUM(I13,I23)>0,SUM(I13,I23),"")
A27: Rate | B27: ='10.11.26'!B27 -> 5 | C27: ='10.11.26'!C27 -> 7.4 | D27: ='10.11.26'!D27 -> 7.4 | E27: ='10.11.26'!E27 -> 15.69 | F27: ='10.11.26'!F27 -> 17.85 | G27: ='10.11.26'!G27 -> 15.69 | H27: ='10.11.26'!H27 -> 12
A28: Subtotal | B28: =IF(B26<>"",B26*B27,"") | C28: =IF(C26<>"",C26*C27,"") | D28: =IF(D26<>"",D26*D27,"") | E28: =IF(E26<>"",E26*E27,"") | F28: =IF(F26<>"",F26*F27,"") | G28: =IF(G26<>"",G26*G27,"") | H28: =IF(H26<>"",H26*H27,"")
A29: Gr Total | B29: =IF(SUM(B28:K28)>0,SUM(B28:K28),"")
A31: Ambulance Runs | F31: Ambulance Runs
A32: Date | B32: Transport to/from | E32: Hrs | F32: Date | G32: Transport to/from | J32: Hrs
A38: Notes:
A41: updated 10/5/25

Sheet 04.25.27
A1: FY2027 Time Sheet -- AAS
A3: Name: | B3: ='10.11.26'!B3 -> name | E3: Pay Period Ending: | H3: ='10.11.26'!H3+196 -> 46502
B5: Mon | C5: Tue | D5: Wed | E5: Thu | F5: Fri | G5: Sat | H5: Sun
A6: Date: | B6: =$H$3-13 -> 46489 | C6: =$H$3-12 -> 46490 | D6: =$H$3-11 -> 46491 | E6: =$H$3-10 -> 46492 | F6: =$H$3-9 -> 46493 | G6: =$H$3-8 -> 46494 | H6: =$H$3-7 -> 46495 | I6: Wk1 Ttl
A7: Wday | I7: =IF(SUM(B7:H7)>0,SUM(B7:H7),"")
A8: Wend | I8: =IF(SUM(B8:H8)>0,SUM(B8:H8),"")
A9: Holiday | I9: =IF(SUM(B9:H9)>0,SUM(B9:H9),"")
A10: Run | I10: =IF(SUM(B10:H10)>0,SUM(B10:H10),"")
A11: Trans | I11: =IF(SUM(B11:H11)>0,SUM(B11:H11),"")
A12: Trg/Ed | I12: =IF(SUM(B12:H12)>0,SUM(B12:H12),"")
A13: Mtg | I13: =IF(SUM(B13:H13)>0,SUM(B13:H13),"")
B15: Mon | C15: Tue | D15: Wed | E15: Thu | F15: Fri | G15: Sat | H15: Sun
A16: Date: | B16: =$H$3-6 -> 46496 | C16: =$H$3-5 -> 46497 | D16: =$H$3-4 -> 46498 | E16: =$H$3-3 -> 46499 | F16: =$H$3-2 -> 46500 | G16: =$H$3-1 -> 46501 | H16: =$H$3-0 -> 46502 | I16: Wk2 Ttl
A17: Wday | I17: =IF(SUM(B17:H17)>0,SUM(B17:H17),"")
A18: Wend | I18: =IF(SUM(B18:H18)>0,SUM(B18:H18),"")
A19: Holiday | I19: =IF(SUM(B19:H19)>0,SUM(B19:H19),"")
A20: Run | I20: =IF(SUM(B20:H20)>0,SUM(B20:H20),"")
A21: Trans | I21: =IF(SUM(B21:H21)>0,SUM(B21:H21),"")
A22: Trg/Ed | I22: =IF(SUM(B22:H22)>0,SUM(B22:H22),"")
A23: Mtg | I23: =IF(SUM(B23:H23)>0,SUM(B23:H23),"")
B25: WDCH | C25: WECH | D25: Holiday | E25: RtR | F25: TrR | G25: Tr/Ed | H25: Mtg
A26: Totals | B26: =IF(SUM(I7,I17)>0,SUM(I7,I17),"") | C26: =IF(SUM(I8,I18)>0,SUM(I8,I18),"") | D26: =IF(SUM(I9,I19)>0,SUM(I9,I19),"") | E26: =IF(SUM(I10,I20)>0,SUM(I10,I20),"") | F26: =IF(SUM(I11,I21)>0,SUM(I11,I21),"") | G26: =IF(SUM(I12,I22)>0,SUM(I12,I22),"") | H26: =IF(SUM(I13,I23)>0,SUM(I13,I23),"")
A27: Rate | B27: ='10.11.26'!B27 -> 5 | C27: ='10.11.26'!C27 -> 7.4 | D27: ='10.11.26'!D27 -> 7.4 | E27: ='10.11.26'!E27 -> 15.69 | F27: ='10.11.26'!F27 -> 17.85 | G27: ='10.11.26'!G27 -> 15.69 | H27: ='10.11.26'!H27 -> 12
A28: Subtotal | B28: =IF(B26<>"",B26*B27,"") | C28: =IF(C26<>"",C26*C27,"") | D28: =IF(D26<>"",D26*D27,"") | E28: =IF(E26<>"",E26*E27,"") | F28: =IF(F26<>"",F26*F27,"") | G28: =IF(G26<>"",G26*G27,"") | H28: =IF(H26<>"",H26*H27,"")
A29: Gr Total | B29: =IF(SUM(B28:K28)>0,SUM(B28:K28),"")
A31: Ambulance Runs | F31: Ambulance Runs
A32: Date | B32: Transport to/from | E32: Hrs | F32: Date | G32: Transport to/from | J32: Hrs
A38: Notes:
A41: updated 10/5/25

Sheet 05.09.27
A1: FY2027 Time Sheet -- AAS
A3: Name: | B3: ='10.11.26'!B3 -> name | E3: Pay Period Ending: | H3: ='10.11.26'!H3+210 -> 46516
B5: Mon | C5: Tue | D5: Wed | E5: Thu | F5: Fri | G5: Sat | H5: Sun
A6: Date: | B6: =$H$3-13 -> 46503 | C6: =$H$3-12 -> 46504 | D6: =$H$3-11 -> 46505 | E6: =$H$3-10 -> 46506 | F6: =$H$3-9 -> 46507 | G6: =$H$3-8 -> 46508 | H6: =$H$3-7 -> 46509 | I6: Wk1 Ttl
A7: Wday | I7: =IF(SUM(B7:H7)>0,SUM(B7:H7),"")
A8: Wend | I8: =IF(SUM(B8:H8)>0,SUM(B8:H8),"")
A9: Holiday | I9: =IF(SUM(B9:H9)>0,SUM(B9:H9),"")
A10: Run | I10: =IF(SUM(B10:H10)>0,SUM(B10:H10),"")
A11: Trans | I11: =IF(SUM(B11:H11)>0,SUM(B11:H11),"")
A12: Trg/Ed | I12: =IF(SUM(B12:H12)>0,SUM(B12:H12),"")
A13: Mtg | I13: =IF(SUM(B13:H13)>0,SUM(B13:H13),"")
B15: Mon | C15: Tue | D15: Wed | E15: Thu | F15: Fri | G15: Sat | H15: Sun
A16: Date: | B16: =$H$3-6 -> 46510 | C16: =$H$3-5 -> 46511 | D16: =$H$3-4 -> 46512 | E16: =$H$3-3 -> 46513 | F16: =$H$3-2 -> 46514 | G16: =$H$3-1 -> 46515 | H16: =$H$3-0 -> 46516 | I16: Wk2 Ttl
A17: Wday | I17: =IF(SUM(B17:H17)>0,SUM(B17:H17),"")
A18: Wend | I18: =IF(SUM(B18:H18)>0,SUM(B18:H18),"")
A19: Holiday | I19: =IF(SUM(B19:H19)>0,SUM(B19:H19),"")
A20: Run | I20: =IF(SUM(B20:H20)>0,SUM(B20:H20),"")
A21: Trans | I21: =IF(SUM(B21:H21)>0,SUM(B21:H21),"")
A22: Trg/Ed | I22: =IF(SUM(B22:H22)>0,SUM(B22:H22),"")
A23: Mtg | I23: =IF(SUM(B23:H23)>0,SUM(B23:H23),"")
B25: WDCH | C25: WECH | D25: Holiday | E25: RtR | F25: TrR | G25: Tr/Ed | H25: Mtg
A26: Totals | B26: =IF(SUM(I7,I17)>0,SUM(I7,I17),"") | C26: =IF(SUM(I8,I18)>0,SUM(I8,I18),"") | D26: =IF(SUM(I9,I19)>0,SUM(I9,I19),"") | E26: =IF(SUM(I10,I20)>0,SUM(I10,I20),"") | F26: =IF(SUM(I11,I21)>0,SUM(I11,I21),"") | G26: =IF(SUM(I12,I22)>0,SUM(I12,I22),"") | H26: =IF(SUM(I13,I23)>0,SUM(I13,I23),"")
A27: Rate | B27: ='10.11.26'!B27 -> 5 | C27: ='10.11.26'!C27 -> 7.4 | D27: ='10.11.26'!D27 -> 7.4 | E27: ='10.11.26'!E27 -> 15.69 | F27: ='10.11.26'!F27 -> 17.85 | G27: ='10.11.26'!G27 -> 15.69 | H27: ='10.11.26'!H27 -> 12
A28: Subtotal | B28: =IF(B26<>"",B26*B27,"") | C28: =IF(C26<>"",C26*C27,"") | D28: =IF(D26<>"",D26*D27,"") | E28: =IF(E26<>"",E26*E27,"") | F28: =IF(F26<>"",F26*F27,"") | G28: =IF(G26<>"",G26*G27,"") | H28: =IF(H26<>"",H26*H27,"")
A29: Gr Total | B29: =IF(SUM(B28:K28)>0,SUM(B28:K28),"")
A31: Ambulance Runs | F31: Ambulance Runs
A32: Date | B32: Transport to/from | E32: Hrs | F32: Date | G32: Transport to/from | J32: Hrs
A38: Notes:
A41: updated 10/5/25

Sheet 05.23.27
A1: FY2027 Time Sheet -- AAS
A3: Name: | B3: ='10.11.26'!B3 -> name | E3: Pay Period Ending: | H3: ='10.11.26'!H3+224 -> 46530
B5: Mon | C5: Tue | D5: Wed | E5: Thu | F5: Fri | G5: Sat | H5: Sun
A6: Date: | B6: =$H$3-13 -> 46517 | C6: =$H$3-12 -> 46518 | D6: =$H$3-11 -> 46519 | E6: =$H$3-10 -> 46520 | F6: =$H$3-9 -> 46521 | G6: =$H$3-8 -> 46522 | H6: =$H$3-7 -> 46523 | I6: Wk1 Ttl
A7: Wday | I7: =IF(SUM(B7:H7)>0,SUM(B7:H7),"")
A8: Wend | I8: =IF(SUM(B8:H8)>0,SUM(B8:H8),"")
A9: Holiday | I9: =IF(SUM(B9:H9)>0,SUM(B9:H9),"")
A10: Run | I10: =IF(SUM(B10:H10)>0,SUM(B10:H10),"")
A11: Trans | I11: =IF(SUM(B11:H11)>0,SUM(B11:H11),"")
A12: Trg/Ed | I12: =IF(SUM(B12:H12)>0,SUM(B12:H12),"")
A13: Mtg | I13: =IF(SUM(B13:H13)>0,SUM(B13:H13),"")
B15: Mon | C15: Tue | D15: Wed | E15: Thu | F15: Fri | G15: Sat | H15: Sun
A16: Date: | B16: =$H$3-6 -> 46524 | C16: =$H$3-5 -> 46525 | D16: =$H$3-4 -> 46526 | E16: =$H$3-3 -> 46527 | F16: =$H$3-2 -> 46528 | G16: =$H$3-1 -> 46529 | H16: =$H$3-0 -> 46530 | I16: Wk2 Ttl
A17: Wday | I17: =IF(SUM(B17:H17)>0,SUM(B17:H17),"")
A18: Wend | I18: =IF(SUM(B18:H18)>0,SUM(B18:H18),"")
A19: Holiday | I19: =IF(SUM(B19:H19)>0,SUM(B19:H19),"")
A20: Run | I20: =IF(SUM(B20:H20)>0,SUM(B20:H20),"")
A21: Trans | I21: =IF(SUM(B21:H21)>0,SUM(B21:H21),"")
A22: Trg/Ed | I22: =IF(SUM(B22:H22)>0,SUM(B22:H22),"")
A23: Mtg | I23: =IF(SUM(B23:H23)>0,SUM(B23:H23),"")
B25: WDCH | C25: WECH | D25: Holiday | E25: RtR | F25: TrR | G25: Tr/Ed | H25: Mtg
A26: Totals | B26: =IF(SUM(I7,I17)>0,SUM(I7,I17),"") | C26: =IF(SUM(I8,I18)>0,SUM(I8,I18),"") | D26: =IF(SUM(I9,I19)>0,SUM(I9,I19),"") | E26: =IF(SUM(I10,I20)>0,SUM(I10,I20),"") | F26: =IF(SUM(I11,I21)>0,SUM(I11,I21),"") | G26: =IF(SUM(I12,I22)>0,SUM(I12,I22),"") | H26: =IF(SUM(I13,I23)>0,SUM(I13,I23),"")
A27: Rate | B27: ='10.11.26'!B27 -> 5 | C27: ='10.11.26'!C27 -> 7.4 | D27: ='10.11.26'!D27 -> 7.4 | E27: ='10.11.26'!E27 -> 15.69 | F27: ='10.11.26'!F27 -> 17.85 | G27: ='10.11.26'!G27 -> 15.69 | H27: ='10.11.26'!H27 -> 12
A28: Subtotal | B28: =IF(B26<>"",B26*B27,"") | C28: =IF(C26<>"",C26*C27,"") | D28: =IF(D26<>"",D26*D27,"") | E28: =IF(E26<>"",E26*E27,"") | F28: =IF(F26<>"",F26*F27,"") | G28: =IF(G26<>"",G26*G27,"") | H28: =IF(H26<>"",H26*H27,"")
A29: Gr Total | B29: =IF(SUM(B28:K28)>0,SUM(B28:K28),"")
A31: Ambulance Runs | F31: Ambulance Runs
A32: Date | B32: Transport to/from | E32: Hrs | F32: Date | G32: Transport to/from | J32: Hrs
A38: Notes:
A41: updated 10/5/25

Sheet 06.06.27
A1: FY2027 Time Sheet -- AAS
A3: Name: | B3: ='10.11.26'!B3 -> name | E3: Pay Period Ending: | H3: ='10.11.26'!H3+238 -> 46544
B5: Mon | C5: Tue | D5: Wed | E5: Thu | F5: Fri | G5: Sat | H5: Sun
A6: Date: | B6: =$H$3-13 -> 46531 | C6: =$H$3-12 -> 46532 | D6: =$H$3-11 -> 46533 | E6: =$H$3-10 -> 46534 | F6: =$H$3-9 -> 46535 | G6: =$H$3-8 -> 46536 | H6: =$H$3-7 -> 46537 | I6: Wk1 Ttl
A7: Wday | I7: =IF(SUM(B7:H7)>0,SUM(B7:H7),"")
A8: Wend | I8: =IF(SUM(B8:H8)>0,SUM(B8:H8),"")
A9: Holiday | I9: =IF(SUM(B9:H9)>0,SUM(B9:H9),"")
A10: Run | I10: =IF(SUM(B10:H10)>0,SUM(B10:H10),"")
A11: Trans | I11: =IF(SUM(B11:H11)>0,SUM(B11:H11),"")
A12: Trg/Ed | I12: =IF(SUM(B12:H12)>0,SUM(B12:H12),"")
A13: Mtg | I13: =IF(SUM(B13:H13)>0,SUM(B13:H13),"")
B15: Mon | C15: Tue | D15: Wed | E15: Thu | F15: Fri | G15: Sat | H15: Sun
A16: Date: | B16: =$H$3-6 -> 46538 | C16: =$H$3-5 -> 46539 | D16: =$H$3-4 -> 46540 | E16: =$H$3-3 -> 46541 | F16: =$H$3-2 -> 46542 | G16: =$H$3-1 -> 46543 | H16: =$H$3-0 -> 46544 | I16: Wk2 Ttl
A17: Wday | I17: =IF(SUM(B17:H17)>0,SUM(B17:H17),"")
A18: Wend | I18: =IF(SUM(B18:H18)>0,SUM(B18:H18),"")
A19: Holiday | I19: =IF(SUM(B19:H19)>0,SUM(B19:H19),"")
A20: Run | I20: =IF(SUM(B20:H20)>0,SUM(B20:H20),"")
A21: Trans | I21: =IF(SUM(B21:H21)>0,SUM(B21:H21),"")
A22: Trg/Ed | I22: =IF(SUM(B22:H22)>0,SUM(B22:H22),"")
A23: Mtg | I23: =IF(SUM(B23:H23)>0,SUM(B23:H23),"")
B25: WDCH | C25: WECH | D25: Holiday | E25: RtR | F25: TrR | G25: Tr/Ed | H25: Mtg
A26: Totals | B26: =IF(SUM(I7,I17)>0,SUM(I7,I17),"") | C26: =IF(SUM(I8,I18)>0,SUM(I8,I18),"") | D26: =IF(SUM(I9,I19)>0,SUM(I9,I19),"") | E26: =IF(SUM(I10,I20)>0,SUM(I10,I20),"") | F26: =IF(SUM(I11,I21)>0,SUM(I11,I21),"") | G26: =IF(SUM(I12,I22)>0,SUM(I12,I22),"") | H26: =IF(SUM(I13,I23)>0,SUM(I13,I23),"")
A27: Rate | B27: ='10.11.26'!B27 -> 5 | C27: ='10.11.26'!C27 -> 7.4 | D27: ='10.11.26'!D27 -> 7.4 | E27: ='10.11.26'!E27 -> 15.69 | F27: ='10.11.26'!F27 -> 17.85 | G27: ='10.11.26'!G27 -> 15.69 | H27: ='10.11.26'!H27 -> 12
A28: Subtotal | B28: =IF(B26<>"",B26*B27,"") | C28: =IF(C26<>"",C26*C27,"") | D28: =IF(D26<>"",D26*D27,"") | E28: =IF(E26<>"",E26*E27,"") | F28: =IF(F26<>"",F26*F27,"") | G28: =IF(G26<>"",G26*G27,"") | H28: =IF(H26<>"",H26*H27,"")
A29: Gr Total | B29: =IF(SUM(B28:K28)>0,SUM(B28:K28),"")
A31: Ambulance Runs | F31: Ambulance Runs
A32: Date | B32: Transport to/from | E32: Hrs | F32: Date | G32: Transport to/from | J32: Hrs
A38: Notes:
A41: updated 10/5/25

Sheet 06.20.27
A1: FY2027 Time Sheet -- AAS
A3: Name: | B3: ='10.11.26'!B3 -> name | E3: Pay Period Ending: | H3: ='10.11.26'!H3+252 -> 46558
B5: Mon | C5: Tue | D5: Wed | E5: Thu | F5: Fri | G5: Sat | H5: Sun
A6: Date: | B6: =$H$3-13 -> 46545 | C6: =$H$3-12 -> 46546 | D6: =$H$3-11 -> 46547 | E6: =$H$3-10 -> 46548 | F6: =$H$3-9 -> 46549 | G6: =$H$3-8 -> 46550 | H6: =$H$3-7 -> 46551 | I6: Wk1 Ttl
A7: Wday | I7: =IF(SUM(B7:H7)>0,SUM(B7:H7),"")
A8: Wend | I8: =IF(SUM(B8:H8)>0,SUM(B8:H8),"")
A9: Holiday | I9: =IF(SUM(B9:H9)>0,SUM(B9:H9),"")
A10: Run | I10: =IF(SUM(B10:H10)>0,SUM(B10:H10),"")
A11: Trans | I11: =IF(SUM(B11:H11)>0,SUM(B11:H11),"")
A12: Trg/Ed | I12: =IF(SUM(B12:H12)>0,SUM(B12:H12),"")
A13: Mtg | I13: =IF(SUM(B13:H13)>0,SUM(B13:H13),"")
B15: Mon | C15: Tue | D15: Wed | E15: Thu | F15: Fri | G15: Sat | H15: Sun
A16: Date: | B16: =$H$3-6 -> 46552 | C16: =$H$3-5 -> 46553 | D16: =$H$3-4 -> 46554 | E16: =$H$3-3 -> 46555 | F16: =$H$3-2 -> 46556 | G16: =$H$3-1 -> 46557 | H16: =$H$3-0 -> 46558 | I16: Wk2 Ttl
A17: Wday | I17: =IF(SUM(B17:H17)>0,SUM(B17:H17),"")
A18: Wend | I18: =IF(SUM(B18:H18)>0,SUM(B18:H18),"")
A19: Holiday | I19: =IF(SUM(B19:H19)>0,SUM(B19:H19),"")
A20: Run | I20: =IF(SUM(B20:H20)>0,SUM(B20:H20),"")
A21: Trans | I21: =IF(SUM(B21:H21)>0,SUM(B21:H21),"")
A22: Trg/Ed | I22: =IF(SUM(B22:H22)>0,SUM(B22:H22),"")
A23: Mtg | I23: =IF(SUM(B23:H23)>0,SUM(B23:H23),"")
B25: WDCH | C25: WECH | D25: Holiday | E25: RtR | F25: TrR | G25: Tr/Ed | H25: Mtg
A26: Totals | B26: =IF(SUM(I7,I17)>0,SUM(I7,I17),"") | C26: =IF(SUM(I8,I18)>0,SUM(I8,I18),"") | D26: =IF(SUM(I9,I19)>0,SUM(I9,I19),"") | E26: =IF(SUM(I10,I20)>0,SUM(I10,I20),"") | F26: =IF(SUM(I11,I21)>0,SUM(I11,I21),"") | G26: =IF(SUM(I12,I22)>0,SUM(I12,I22),"") | H26: =IF(SUM(I13,I23)>0,SUM(I13,I23),"")
A27: Rate | B27: ='10.11.26'!B27 -> 5 | C27: ='10.11.26'!C27 -> 7.4 | D27: ='10.11.26'!D27 -> 7.4 | E27: ='10.11.26'!E27 -> 15.69 | F27: ='10.11.26'!F27 -> 17.85 | G27: ='10.11.26'!G27 -> 15.69 | H27: ='10.11.26'!H27 -> 12
A28: Subtotal | B28: =IF(B26<>"",B26*B27,"") | C28: =IF(C26<>"",C26*C27,"") | D28: =IF(D26<>"",D26*D27,"") | E28: =IF(E26<>"",E26*E27,"") | F28: =IF(F26<>"",F26*F27,"") | G28: =IF(G26<>"",G26*G27,"") | H28: =IF(H26<>"",H26*H27,"")
A29: Gr Total | B29: =IF(SUM(B28:K28)>0,SUM(B28:K28),"")
A31: Ambulance Runs | F31: Ambulance Runs
A32: Date | B32: Transport to/from | E32: Hrs | F32: Date | G32: Transport to/from | J32: Hrs
A38: Notes:
A41: updated 10/5/25

Sheet 07.04.27
A1: FY2027 Time Sheet -- AAS
A3: Name: | B3: ='10.11.26'!B3 -> name | E3: Pay Period Ending: | H3: ='10.11.26'!H3+266 -> 46572
B5: Mon | C5: Tue | D5: Wed | E5: Thu | F5: Fri | G5: Sat | H5: Sun
A6: Date: | B6: =$H$3-13 -> 46559 | C6: =$H$3-12 -> 46560 | D6: =$H$3-11 -> 46561 | E6: =$H$3-10 -> 46562 | F6: =$H$3-9 -> 46563 | G6: =$H$3-8 -> 46564 | H6: =$H$3-7 -> 46565 | I6: Wk1 Ttl
A7: Wday | I7: =IF(SUM(B7:H7)>0,SUM(B7:H7),"")
A8: Wend | I8: =IF(SUM(B8:H8)>0,SUM(B8:H8),"")
A9: Holiday | I9: =IF(SUM(B9:H9)>0,SUM(B9:H9),"")
A10: Run | I10: =IF(SUM(B10:H10)>0,SUM(B10:H10),"")
A11: Trans | I11: =IF(SUM(B11:H11)>0,SUM(B11:H11),"")
A12: Trg/Ed | I12: =IF(SUM(B12:H12)>0,SUM(B12:H12),"")
A13: Mtg | I13: =IF(SUM(B13:H13)>0,SUM(B13:H13),"")
B15: Mon | C15: Tue | D15: Wed | E15: Thu | F15: Fri | G15: Sat | H15: Sun
A16: Date: | B16: =$H$3-6 -> 46566 | C16: =$H$3-5 -> 46567 | D16: =$H$3-4 -> 46568 | E16: =$H$3-3 -> 46569 | F16: =$H$3-2 -> 46570 | G16: =$H$3-1 -> 46571 | H16: =$H$3-0 -> 46572 | I16: Wk2 Ttl
A17: Wday | I17: =IF(SUM(B17:H17)>0,SUM(B17:H17),"")
A18: Wend | I18: =IF(SUM(B18:H18)>0,SUM(B18:H18),"")
A19: Holiday | I19: =IF(SUM(B19:H19)>0,SUM(B19:H19),"")
A20: Run | I20: =IF(SUM(B20:H20)>0,SUM(B20:H20),"")
A21: Trans | I21: =IF(SUM(B21:H21)>0,SUM(B21:H21),"")
A22: Trg/Ed | I22: =IF(SUM(B22:H22)>0,SUM(B22:H22),"")
A23: Mtg | I23: =IF(SUM(B23:H23)>0,SUM(B23:H23),"")
B25: WDCH | C25: WECH | D25: Holiday | E25: RtR | F25: TrR | G25: Tr/Ed | H25: Mtg
A26: Totals | B26: =IF(SUM(I7,I17)>0,SUM(I7,I17),"") | C26: =IF(SUM(I8,I18)>0,SUM(I8,I18),"") | D26: =IF(SUM(I9,I19)>0,SUM(I9,I19),"") | E26: =IF(SUM(I10,I20)>0,SUM(I10,I20),"") | F26: =IF(SUM(I11,I21)>0,SUM(I11,I21),"") | G26: =IF(SUM(I12,I22)>0,SUM(I12,I22),"") | H26: =IF(SUM(I13,I23)>0,SUM(I13,I23),"")
A27: Rate | B27: ='10.11.26'!B27 -> 5 | C27: ='10.11.26'!C27 -> 7.4 | D27: ='10.11.26'!D27 -> 7.4 | E27: ='10.11.26'!E27 -> 15.69 | F27: ='10.11.26'!F27 -> 17.85 | G27: ='10.11.26'!G27 -> 15.69 | H27: ='10.11.26'!H27 -> 12
A28: Subtotal | B28: =IF(B26<>"",B26*B27,"") | C28: =IF(C26<>"",C26*C27,"") | D28: =IF(D26<>"",D26*D27,"") | E28: =IF(E26<>"",E26*E27,"") | F28: =IF(F26<>"",F26*F27,"") | G28: =IF(G26<>"",G26*G27,"") | H28: =IF(H26<>"",H26*H27,"")
A29: Gr Total | B29: =IF(SUM(B28:K28)>0,SUM(B28:K28),"")
A31: Ambulance Runs | F31: Ambulance Runs
A32: Date | B32: Transport to/from | E32: Hrs | F32: Date | G32: Transport to/from | J32: Hrs
A38: Notes:
A41: updated 10/5/25

Sheet 07.18.27
A1: FY2027 Time Sheet -- AAS
A3: Name: | B3: ='10.11.26'!B3 -> name | E3: Pay Period Ending: | H3: ='10.11.26'!H3+280 -> 46586
B5: Mon | C5: Tue | D5: Wed | E5: Thu | F5: Fri | G5: Sat | H5: Sun
A6: Date: | B6: =$H$3-13 -> 46573 | C6: =$H$3-12 -> 46574 | D6: =$H$3-11 -> 46575 | E6: =$H$3-10 -> 46576 | F6: =$H$3-9 -> 46577 | G6: =$H$3-8 -> 46578 | H6: =$H$3-7 -> 46579 | I6: Wk1 Ttl
A7: Wday | I7: =IF(SUM(B7:H7)>0,SUM(B7:H7),"")
A8: Wend | I8: =IF(SUM(B8:H8)>0,SUM(B8:H8),"")
A9: Holiday | I9: =IF(SUM(B9:H9)>0,SUM(B9:H9),"")
A10: Run | I10: =IF(SUM(B10:H10)>0,SUM(B10:H10),"")
A11: Trans | I11: =IF(SUM(B11:H11)>0,SUM(B11:H11),"")
A12: Trg/Ed | I12: =IF(SUM(B12:H12)>0,SUM(B12:H12),"")
A13: Mtg | I13: =IF(SUM(B13:H13)>0,SUM(B13:H13),"")
B15: Mon | C15: Tue | D15: Wed | E15: Thu | F15: Fri | G15: Sat | H15: Sun
A16: Date: | B16: =$H$3-6 -> 46580 | C16: =$H$3-5 -> 46581 | D16: =$H$3-4 -> 46582 | E16: =$H$3-3 -> 46583 | F16: =$H$3-2 -> 46584 | G16: =$H$3-1 -> 46585 | H16: =$H$3-0 -> 46586 | I16: Wk2 Ttl
A17: Wday | I17: =IF(SUM(B17:H17)>0,SUM(B17:H17),"")
A18: Wend | I18: =IF(SUM(B18:H18)>0,SUM(B18:H18),"")
A19: Holiday | I19: =IF(SUM(B19:H19)>0,SUM(B19:H19),"")
A20: Run | I20: =IF(SUM(B20:H20)>0,SUM(B20:H20),"")
A21: Trans | I21: =IF(SUM(B21:H21)>0,SUM(B21:H21),"")
A22: Trg/Ed | I22: =IF(SUM(B22:H22)>0,SUM(B22:H22),"")
A23: Mtg | I23: =IF(SUM(B23:H23)>0,SUM(B23:H23),"")
B25: WDCH | C25: WECH | D25: Holiday | E25: RtR | F25: TrR | G25: Tr/Ed | H25: Mtg
A26: Totals | B26: =IF(SUM(I7,I17)>0,SUM(I7,I17),"") | C26: =IF(SUM(I8,I18)>0,SUM(I8,I18),"") | D26: =IF(SUM(I9,I19)>0,SUM(I9,I19),"") | E26: =IF(SUM(I10,I20)>0,SUM(I10,I20),"") | F26: =IF(SUM(I11,I21)>0,SUM(I11,I21),"") | G26: =IF(SUM(I12,I22)>0,SUM(I12,I22),"") | H26: =IF(SUM(I13,I23)>0,SUM(I13,I23),"")
A27: Rate | B27: ='10.11.26'!B27 -> 5 | C27: ='10.11.26'!C27 -> 7.4 | D27: ='10.11.26'!D27 -> 7.4 | E27: ='10.11.26'!E27 -> 15.69 | F27: ='10.11.26'!F27 -> 17.85 | G27: ='10.11.26'!G27 -> 15.69 | H27: ='10.11.26'!H27 -> 12
A28: Subtotal | B28: =IF(B26<>"",B26*B27,"") | C28: =IF(C26<>"",C26*C27,"") | D28: =IF(D26<>"",D26*D27,"") | E28: =IF(E26<>"",E26*E27,"") | F28: =IF(F26<>"",F26*F27,"") | G28: =IF(G26<>"",G26*G27,"") | H28: =IF(H26<>"",H26*H27,"")
A29: Gr Total | B29: =IF(SUM(B28:K28)>0,SUM(B28:K28),"")
A31: Ambulance Runs | F31: Ambulance Runs
A32: Date | B32: Transport to/from | E32: Hrs | F32: Date | G32: Transport to/from | J32: Hrs
A38: Notes:
A41: updated 10/5/25

Sheet 08.01.27
A1: FY2027 Time Sheet -- AAS
A3: Name: | B3: ='10.11.26'!B3 -> name | E3: Pay Period Ending: | H3: ='10.11.26'!H3+294 -> 46600
B5: Mon | C5: Tue | D5: Wed | E5: Thu | F5: Fri | G5: Sat | H5: Sun
A6: Date: | B6: =$H$3-13 -> 46587 | C6: =$H$3-12 -> 46588 | D6: =$H$3-11 -> 46589 | E6: =$H$3-10 -> 46590 | F6: =$H$3-9 -> 46591 | G6: =$H$3-8 -> 46592 | H6: =$H$3-7 -> 46593 | I6: Wk1 Ttl
A7: Wday | I7: =IF(SUM(B7:H7)>0,SUM(B7:H7),"")
A8: Wend | I8: =IF(SUM(B8:H8)>0,SUM(B8:H8),"")
A9: Holiday | I9: =IF(SUM(B9:H9)>0,SUM(B9:H9),"")
A10: Run | I10: =IF(SUM(B10:H10)>0,SUM(B10:H10),"")
A11: Trans | I11: =IF(SUM(B11:H11)>0,SUM(B11:H11),"")
A12: Trg/Ed | I12: =IF(SUM(B12:H12)>0,SUM(B12:H12),"")
A13: Mtg | I13: =IF(SUM(B13:H13)>0,SUM(B13:H13),"")
B15: Mon | C15: Tue | D15: Wed | E15: Thu | F15: Fri | G15: Sat | H15: Sun
A16: Date: | B16: =$H$3-6 -> 46594 | C16: =$H$3-5 -> 46595 | D16: =$H$3-4 -> 46596 | E16: =$H$3-3 -> 46597 | F16: =$H$3-2 -> 46598 | G16: =$H$3-1 -> 46599 | H16: =$H$3-0 -> 46600 | I16: Wk2 Ttl
A17: Wday | I17: =IF(SUM(B17:H17)>0,SUM(B17:H17),"")
A18: Wend | I18: =IF(SUM(B18:H18)>0,SUM(B18:H18),"")
A19: Holiday | I19: =IF(SUM(B19:H19)>0,SUM(B19:H19),"")
A20: Run | I20: =IF(SUM(B20:H20)>0,SUM(B20:H20),"")
A21: Trans | I21: =IF(SUM(B21:H21)>0,SUM(B21:H21),"")
A22: Trg/Ed | I22: =IF(SUM(B22:H22)>0,SUM(B22:H22),"")
A23: Mtg | I23: =IF(SUM(B23:H23)>0,SUM(B23:H23),"")
B25: WDCH | C25: WECH | D25: Holiday | E25: RtR | F25: TrR | G25: Tr/Ed | H25: Mtg
A26: Totals | B26: =IF(SUM(I7,I17)>0,SUM(I7,I17),"") | C26: =IF(SUM(I8,I18)>0,SUM(I8,I18),"") | D26: =IF(SUM(I9,I19)>0,SUM(I9,I19),"") | E26: =IF(SUM(I10,I20)>0,SUM(I10,I20),"") | F26: =IF(SUM(I11,I21)>0,SUM(I11,I21),"") | G26: =IF(SUM(I12,I22)>0,SUM(I12,I22),"") | H26: =IF(SUM(I13,I23)>0,SUM(I13,I23),"")
A27: Rate | B27: ='10.11.26'!B27 -> 5 | C27: ='10.11.26'!C27 -> 7.4 | D27: ='10.11.26'!D27 -> 7.4 | E27: ='10.11.26'!E27 -> 15.69 | F27: ='10.11.26'!F27 -> 17.85 | G27: ='10.11.26'!G27 -> 15.69 | H27: ='10.11.26'!H27 -> 12
A28: Subtotal | B28: =IF(B26<>"",B26*B27,"") | C28: =IF(C26<>"",C26*C27,"") | D28: =IF(D26<>"",D26*D27,"") | E28: =IF(E26<>"",E26*E27,"") | F28: =IF(F26<>"",F26*F27,"") | G28: =IF(G26<>"",G26*G27,"") | H28: =IF(H26<>"",H26*H27,"")
A29: Gr Total | B29: =IF(SUM(B28:K28)>0,SUM(B28:K28),"")
A31: Ambulance Runs | F31: Ambulance Runs
A32: Date | B32: Transport to/from | E32: Hrs | F32: Date | G32: Transport to/from | J32: Hrs
A38: Notes:
A41: updated 10/5/25

Sheet 08.15.27
A1: FY2027 Time Sheet -- AAS
A3: Name: | B3: ='10.11.26'!B3 -> name | E3: Pay Period Ending: | H3: ='10.11.26'!H3+308 -> 46614
B5: Mon | C5: Tue | D5: Wed | E5: Thu | F5: Fri | G5: Sat | H5: Sun
A6: Date: | B6: =$H$3-13 -> 46601 | C6: =$H$3-12 -> 46602 | D6: =$H$3-11 -> 46603 | E6: =$H$3-10 -> 46604 | F6: =$H$3-9 -> 46605 | G6: =$H$3-8 -> 46606 | H6: =$H$3-7 -> 46607 | I6: Wk1 Ttl
A7: Wday | I7: =IF(SUM(B7:H7)>0,SUM(B7:H7),"")
A8: Wend | I8: =IF(SUM(B8:H8)>0,SUM(B8:H8),"")
A9: Holiday | I9: =IF(SUM(B9:H9)>0,SUM(B9:H9),"")
A10: Run | I10: =IF(SUM(B10:H10)>0,SUM(B10:H10),"")
A11: Trans | I11: =IF(SUM(B11:H11)>0,SUM(B11:H11),"")
A12: Trg/Ed | I12: =IF(SUM(B12:H12)>0,SUM(B12:H12),"")
A13: Mtg | I13: =IF(SUM(B13:H13)>0,SUM(B13:H13),"")
B15: Mon | C15: Tue | D15: Wed | E15: Thu | F15: Fri | G15: Sat | H15: Sun
A16: Date: | B16: =$H$3-6 -> 46608 | C16: =$H$3-5 -> 46609 | D16: =$H$3-4 -> 46610 | E16: =$H$3-3 -> 46611 | F16: =$H$3-2 -> 46612 | G16: =$H$3-1 -> 46613 | H16: =$H$3-0 -> 46614 | I16: Wk2 Ttl
A17: Wday | I17: =IF(SUM(B17:H17)>0,SUM(B17:H17),"")
A18: Wend | I18: =IF(SUM(B18:H18)>0,SUM(B18:H18),"")
A19: Holiday | I19: =IF(SUM(B19:H19)>0,SUM(B19:H19),"")
A20: Run | I20: =IF(SUM(B20:H20)>0,SUM(B20:H20),"")
A21: Trans | I21: =IF(SUM(B21:H21)>0,SUM(B21:H21),"")
A22: Trg/Ed | I22: =IF(SUM(B22:H22)>0,SUM(B22:H22),"")
A23: Mtg | I23: =IF(SUM(B23:H23)>0,SUM(B23:H23),"")
B25: WDCH | C25: WECH | D25: Holiday | E25: RtR | F25: TrR | G25: Tr/Ed | H25: Mtg
A26: Totals | B26: =IF(SUM(I7,I17)>0,SUM(I7,I17),"") | C26: =IF(SUM(I8,I18)>0,SUM(I8,I18),"") | D26: =IF(SUM(I9,I19)>0,SUM(I9,I19),"") | E26: =IF(SUM(I10,I20)>0,SUM(I10,I20),"") | F26: =IF(SUM(I11,I21)>0,SUM(I11,I21),"") | G26: =IF(SUM(I12,I22)>0,SUM(I12,I22),"") | H26: =IF(SUM(I13,I23)>0,SUM(I13,I23),"")
A27: Rate | B27: ='10.11.26'!B27 -> 5 | C27: ='10.11.26'!C27 -> 7.4 | D27: ='10.11.26'!D27 -> 7.4 | E27: ='10.11.26'!E27 -> 15.69 | F27: ='10.11.26'!F27 -> 17.85 | G27: ='10.11.26'!G27 -> 15.69 | H27: ='10.11.26'!H27 -> 12
A28: Subtotal | B28: =IF(B26<>"",B26*B27,"") | C28: =IF(C26<>"",C26*C27,"") | D28: =IF(D26<>"",D26*D27,"") | E28: =IF(E26<>"",E26*E27,"") | F28: =IF(F26<>"",F26*F27,"") | G28: =IF(G26<>"",G26*G27,"") | H28: =IF(H26<>"",H26*H27,"")
A29: Gr Total | B29: =IF(SUM(B28:K28)>0,SUM(B28:K28),"")
A31: Ambulance Runs | F31: Ambulance Runs
A32: Date | B32: Transport to/from | E32: Hrs | F32: Date | G32: Transport to/from | J32: Hrs
A38: Notes:
A41: updated 10/5/25

Sheet 08.29.27
A1: FY2027 Time Sheet -- AAS
A3: Name: | B3: ='10.11.26'!B3 -> name | E3: Pay Period Ending: | H3: ='10.11.26'!H3+322 -> 46628
B5: Mon | C5: Tue | D5: Wed | E5: Thu | F5: Fri | G5: Sat | H5: Sun
A6: Date: | B6: =$H$3-13 -> 46615 | C6: =$H$3-12 -> 46616 | D6: =$H$3-11 -> 46617 | E6: =$H$3-10 -> 46618 | F6: =$H$3-9 -> 46619 | G6: =$H$3-8 -> 46620 | H6: =$H$3-7 -> 46621 | I6: Wk1 Ttl
A7: Wday | I7: =IF(SUM(B7:H7)>0,SUM(B7:H7),"")
A8: Wend | I8: =IF(SUM(B8:H8)>0,SUM(B8:H8),"")
A9: Holiday | I9: =IF(SUM(B9:H9)>0,SUM(B9:H9),"")
A10: Run | I10: =IF(SUM(B10:H10)>0,SUM(B10:H10),"")
A11: Trans | I11: =IF(SUM(B11:H11)>0,SUM(B11:H11),"")
A12: Trg/Ed | I12: =IF(SUM(B12:H12)>0,SUM(B12:H12),"")
A13: Mtg | I13: =IF(SUM(B13:H13)>0,SUM(B13:H13),"")
B15: Mon | C15: Tue | D15: Wed | E15: Thu | F15: Fri | G15: Sat | H15: Sun
A16: Date: | B16: =$H$3-6 -> 46622 | C16: =$H$3-5 -> 46623 | D16: =$H$3-4 -> 46624 | E16: =$H$3-3 -> 46625 | F16: =$H$3-2 -> 46626 | G16: =$H$3-1 -> 46627 | H16: =$H$3-0 -> 46628 | I16: Wk2 Ttl
A17: Wday | I17: =IF(SUM(B17:H17)>0,SUM(B17:H17),"")
A18: Wend | I18: =IF(SUM(B18:H18)>0,SUM(B18:H18),"")
A19: Holiday | I19: =IF(SUM(B19:H19)>0,SUM(B19:H19),"")
A20: Run | I20: =IF(SUM(B20:H20)>0,SUM(B20:H20),"")
A21: Trans | I21: =IF(SUM(B21:H21)>0,SUM(B21:H21),"")
A22: Trg/Ed | I22: =IF(SUM(B22:H22)>0,SUM(B22:H22),"")
A23: Mtg | I23: =IF(SUM(B23:H23)>0,SUM(B23:H23),"")
B25: WDCH | C25: WECH | D25: Holiday | E25: RtR | F25: TrR | G25: Tr/Ed | H25: Mtg
A26: Totals | B26: =IF(SUM(I7,I17)>0,SUM(I7,I17),"") | C26: =IF(SUM(I8,I18)>0,SUM(I8,I18),"") | D26: =IF(SUM(I9,I19)>0,SUM(I9,I19),"") | E26: =IF(SUM(I10,I20)>0,SUM(I10,I20),"") | F26: =IF(SUM(I11,I21)>0,SUM(I11,I21),"") | G26: =IF(SUM(I12,I22)>0,SUM(I12,I22),"") | H26: =IF(SUM(I13,I23)>0,SUM(I13,I23),"")
A27: Rate | B27: ='10.11.26'!B27 -> 5 | C27: ='10.11.26'!C27 -> 7.4 | D27: ='10.11.26'!D27 -> 7.4 | E27: ='10.11.26'!E27 -> 15.69 | F27: ='10.11.26'!F27 -> 17.85 | G27: ='10.11.26'!G27 -> 15.69 | H27: ='10.11.26'!H27 -> 12
A28: Subtotal | B28: =IF(B26<>"",B26*B27,"") | C28: =IF(C26<>"",C26*C27,"") | D28: =IF(D26<>"",D26*D27,"") | E28: =IF(E26<>"",E26*E27,"") | F28: =IF(F26<>"",F26*F27,"") | G28: =IF(G26<>"",G26*G27,"") | H28: =IF(H26<>"",H26*H27,"")
A29: Gr Total | B29: =IF(SUM(B28:K28)>0,SUM(B28:K28),"")
A31: Ambulance Runs | F31: Ambulance Runs
A32: Date | B32: Transport to/from | E32: Hrs | F32: Date | G32: Transport to/from | J32: Hrs
A38: Notes:
A41: updated 10/5/25

Sheet 09.12.27
A1: FY2027 Time Sheet -- AAS
A3: Name: | B3: ='10.11.26'!B3 -> name | E3: Pay Period Ending: | H3: ='10.11.26'!H3+336 -> 46642
B5: Mon | C5: Tue | D5: Wed | E5: Thu | F5: Fri | G5: Sat | H5: Sun
A6: Date: | B6: =$H$3-13 -> 46629 | C6: =$H$3-12 -> 46630 | D6: =$H$3-11 -> 46631 | E6: =$H$3-10 -> 46632 | F6: =$H$3-9 -> 46633 | G6: =$H$3-8 -> 46634 | H6: =$H$3-7 -> 46635 | I6: Wk1 Ttl
A7: Wday | I7: =IF(SUM(B7:H7)>0,SUM(B7:H7),"")
A8: Wend | I8: =IF(SUM(B8:H8)>0,SUM(B8:H8),"")
A9: Holiday | I9: =IF(SUM(B9:H9)>0,SUM(B9:H9),"")
A10: Run | I10: =IF(SUM(B10:H10)>0,SUM(B10:H10),"")
A11: Trans | I11: =IF(SUM(B11:H11)>0,SUM(B11:H11),"")
A12: Trg/Ed | I12: =IF(SUM(B12:H12)>0,SUM(B12:H12),"")
A13: Mtg | I13: =IF(SUM(B13:H13)>0,SUM(B13:H13),"")
B15: Mon | C15: Tue | D15: Wed | E15: Thu | F15: Fri | G15: Sat | H15: Sun
